BEGIN:VCALENDAR
VERSION:2.0
PRODID:-//ChamberMaster//Event Calendar 2.0//EN
METHOD:PUBLISH
X-PUBLISHED-TTL:P3D
REFRESH-INTERVAL:P3D
CALSCALE:GREGORIAN
BEGIN:VEVENT
DTSTART:20220419T163000Z
DTEND:20220419T180000Z
X-MICROSOFT-CDO-ALLDAYEVENT:FALSE
SUMMARY:Innovation Center Lunch and Learn – Business Model and Development Strategy
DESCRIPTION:The Coastal Bend Business Innovation Center (CBBIC)\, run by the College of Business at Texas A&M University-Corpus Christi\, will host a Lunch and Learn on Tuesday\, April 19\, from 11:30 a.m. to 1 p.m. The event will be led by Dr. John Gamble\, Mary & Jeff Bell Endowed Distinguished Professor of Business\, who will teach some of the essential elements of strategic development and management. The lecture is free and open to the public through pre-registration.
X-ALT-DESC;FMTTYPE=text/html:<span style="color:rgb(40\, 60\, 70)\; font-family:-apple-system\,system-ui\,system-ui\,segoe ui\,helvetica\,arial\,sans-serif\,apple color emoji\,segoe ui emoji\,segoe ui symbol\; font-size:19.8px">The Coastal Bend Business Innovation Center (CBBIC)\, run by the College of Business at Texas A&amp\;M University-Corpus Christi\, will host a Lunch and Learn on Tuesday\, April 19\, from 11:30 a.m. to 1 p.m. The event will be led by Dr. John Gamble\, Mary &amp\; Jeff Bell Endowed Distinguished Professor of Business\, who will teach some of the essential elements of strategic development and management. The lecture is free and open to the public through pre-registration.</span>
LOCATION:
UID:e.1866.27447
SEQUENCE:3
DTSTAMP:20260423T101756Z
URL:https://chamber.unitedcorpuschristi.org/events/details/innovation-center-lunch-and-learn-business-model-and-development-strategy-27447
END:VEVENT

END:VCALENDAR
