BEGIN:VCALENDAR
VERSION:2.0
PRODID:-//ChamberMaster//Event Calendar 2.0//EN
METHOD:PUBLISH
X-PUBLISHED-TTL:P3D
REFRESH-INTERVAL:P3D
CALSCALE:GREGORIAN
BEGIN:VEVENT
DTSTART:20230120T143000Z
DTEND:20230121T033000Z
X-MICROSOFT-CDO-ALLDAYEVENT:FALSE
SUMMARY:Infrastructure Committee Meeting
DESCRIPTION:The United Corpus Christi Chamber of Commerce's Infrastructure Committee monitors infrastructure issues of importance to the region. Topics regularly include city street repair\, transportation\, port industries\, water\, and air quality. This group regularly makes recommendations to the Board for positions on issues pertaining to infrastructure
X-ALT-DESC;FMTTYPE=text/html:<span style="font-size:14px\;"><span style="font-family:arial\;"><span style="color:#221f1f\;">The United Corpus Christi Chamber of Commerce&rsquo\;s Infrastructure Committee monitors</span>&nbsp\;<span style="color:#221f1f\;">infrastructure issues of importance to the region. Topics regularly include city street repair\, transportation\, port industries\, water\, and air quality. This group regularly makes</span>&nbsp\;<span style="color:#221f1f\;">recommendations to the Board for positions on issues pertaining to infrastructure</span></span></span>
LOCATION:Kleberg Bank Community Room (2nd Floor) 5350 S. Staples
UID:e.1866.27844
SEQUENCE:3
DTSTAMP:20260423T231239Z
URL:https://chamber.unitedcorpuschristi.org/events/details/infrastructure-committee-meeting-27844
END:VEVENT

END:VCALENDAR
