BEGIN:VCALENDAR
VERSION:2.0
PRODID:-//ChamberMaster//Event Calendar 2.0//EN
METHOD:PUBLISH
X-PUBLISHED-TTL:P3D
REFRESH-INTERVAL:P3D
CALSCALE:GREGORIAN
BEGIN:VEVENT
DTSTART:20220325T160000Z
DTEND:20220325T180000Z
X-MICROSOFT-CDO-ALLDAYEVENT:FALSE
SUMMARY:Ground Breaking for School of Science and Technology
DESCRIPTION:This will be the fourth School of Science and Technology campus to open in Corpus Christi \n\n\n\nSST Alumni will be present along with the Executive Team members from San Antonio\, Texas
X-ALT-DESC;FMTTYPE=text/html:This will be the fourth School of Science and Technology campus to open in Corpus Christi&nbsp\;<br />\n<br />\nSST Alumni will be present along with the Executive Team members from San Antonio\, Texas<br />\n
LOCATION:6633 Evans Road is the school building next door.
UID:e.1866.27416
SEQUENCE:3
DTSTAMP:20260423T084534Z
URL:https://chamber.unitedcorpuschristi.org/events/details/ground-breaking-for-school-of-science-and-technology-27416
END:VEVENT

END:VCALENDAR
