BEGIN:VCALENDAR
VERSION:2.0
PRODID:-//ChamberMaster//Event Calendar 2.0//EN
METHOD:PUBLISH
X-PUBLISHED-TTL:P3D
REFRESH-INTERVAL:P3D
CALSCALE:GREGORIAN
BEGIN:VEVENT
DTSTART:20230112T173000Z
DTEND:20230112T190000Z
X-MICROSOFT-CDO-ALLDAYEVENT:FALSE
SUMMARY:Grand Opening with Ribbon cutting for Ijaz Jewelers
DESCRIPTION:Ribbon cutting \, Extra discount on Jewelry \, light snack and refreshment included\, special appearance by City Mayor \, City Counsel member and United Chamber of Commerce members.\n\nMeet and greet with ijaz associates\, display showroom for vast variety of Gold and Diamond jewelry.
X-ALT-DESC;FMTTYPE=text/html:Ribbon cutting \, Extra discount on Jewelry \, light snack and refreshment included\, special appearance by City Mayor \, City Counsel member and United Chamber of Commerce members.<br />\nMeet and greet with ijaz associates\, display showroom for vast variety of Gold and Diamond jewelry.
LOCATION:Ijaz Jewelers 5601 S Padre Island Dr\, Corpus Christi\, TX 78412
UID:e.1866.28371
SEQUENCE:3
DTSTAMP:20260423T231741Z
URL:https://chamber.unitedcorpuschristi.org/events/details/grand-opening-with-ribbon-cutting-for-ijaz-jewelers-28371
END:VEVENT

END:VCALENDAR
