BEGIN:VCALENDAR
VERSION:2.0
PRODID:-//ChamberMaster//Event Calendar 2.0//EN
METHOD:PUBLISH
X-PUBLISHED-TTL:P3D
REFRESH-INTERVAL:P3D
CALSCALE:GREGORIAN
BEGIN:VEVENT
DTSTART:20220915T170000Z
DTEND:20220915T190000Z
X-MICROSOFT-CDO-ALLDAYEVENT:FALSE
SUMMARY:Grand Opening and Ribbon Cutting for South Shore Coastal Living
DESCRIPTION:New Owner\, new residents\, and new name.
X-ALT-DESC;FMTTYPE=text/html:New Owner\, new residents\, and new name.
LOCATION:5802 Everhart Rd. Corpus Christi\, TX 78413-on the corner of Holly and Everhart
UID:e.1866.27486
SEQUENCE:3
DTSTAMP:20260423T180740Z
URL:https://chamber.unitedcorpuschristi.org/events/details/grand-opening-and-ribbon-cutting-for-south-shore-coastal-living-27486
END:VEVENT

END:VCALENDAR
