BEGIN:VCALENDAR
VERSION:2.0
PRODID:-//ChamberMaster//Event Calendar 2.0//EN
METHOD:PUBLISH
X-PUBLISHED-TTL:P3D
REFRESH-INTERVAL:P3D
CALSCALE:GREGORIAN
BEGIN:VEVENT
DTSTART:20221022T163000Z
DTEND:20221022T180000Z
X-MICROSOFT-CDO-ALLDAYEVENT:FALSE
SUMMARY:Grand Opening and Ribbon Cutting for Sew Bonita
DESCRIPTION:Sew Bonita started as an online brand in 2014\, and opened a 500 sq. ft. store in Hamlin Shopping Center. In one year\, we have exponentially grown and are moving into a 2800 sq ft store in Meadowbrook Plaza. We have been featured in Good Morning America\, and take pride in creating culture in our community. \n\nWhat started as a side hustle\, is now a full time job. Elena takes pride in being Loca for Local!
X-ALT-DESC;FMTTYPE=text/html:Sew Bonita started as an online brand in 2014\, and opened a 500 sq. ft. store in Hamlin Shopping Center. In one year\, we have exponentially grown and are moving into a 2800 sq ft store in Meadowbrook Plaza. We have been featured in Good Morning America\, and take pride in creating culture in our community.&nbsp\;<br />\nWhat started as a side hustle\, is now a full time job. Elena takes pride in being Loca for Local!<br />\n&nbsp\;
LOCATION:4709 S. Alameda ST. Suite B Corpus Christi\, TX 78412
UID:e.1866.27738
SEQUENCE:3
DTSTAMP:20260423T194232Z
URL:https://chamber.unitedcorpuschristi.org/events/details/grand-opening-and-ribbon-cutting-for-sew-bonita-27738
END:VEVENT

END:VCALENDAR
