BEGIN:VCALENDAR
VERSION:2.0
PRODID:-//ChamberMaster//Event Calendar 2.0//EN
METHOD:PUBLISH
X-PUBLISHED-TTL:P3D
REFRESH-INTERVAL:P3D
CALSCALE:GREGORIAN
BEGIN:VEVENT
DTSTART:20220622T163000Z
DTEND:20220622T180000Z
X-MICROSOFT-CDO-ALLDAYEVENT:FALSE
SUMMARY:Grand Opening and Ribbon Cutting for Oh My Lash
DESCRIPTION:I am thrilled to bring a new locally owned lash studio to the south side and as a Corpus Christi native I am so excited to contribute to the growth of our local economy.
X-ALT-DESC;FMTTYPE=text/html:&nbsp\;I am thrilled to bring a new locally owned lash studio to the south side and as a Corpus Christi native I am so excited to contribute to the growth of our local economy.<br />\n
LOCATION:7426 S.Staples suite 203 Corpus Christi\, TX 78411 Located on the corner of Yorktown and staples\, right next door to Nolans.
UID:e.1866.27469
SEQUENCE:3
DTSTAMP:20260423T132409Z
URL:https://chamber.unitedcorpuschristi.org/events/details/grand-opening-and-ribbon-cutting-for-oh-my-lash-27469
END:VEVENT

END:VCALENDAR
