BEGIN:VCALENDAR
VERSION:2.0
PRODID:-//ChamberMaster//Event Calendar 2.0//EN
METHOD:PUBLISH
X-PUBLISHED-TTL:P3D
REFRESH-INTERVAL:P3D
CALSCALE:GREGORIAN
BEGIN:VEVENT
DTSTART:20230209T233000Z
DTEND:20230210T010000Z
X-MICROSOFT-CDO-ALLDAYEVENT:FALSE
SUMMARY:Grand Opening and Ribbon Cutting for Luxe Realty Group
DESCRIPTION:We opened our brokerage in Corpus Christi because we have been blessed to call the coastal bend our home. We love this community and appreciate their ongoing support.
X-ALT-DESC;FMTTYPE=text/html:We opened our brokerage in Corpus Christi because we have been blessed to call the coastal bend our home. We love this community and appreciate their ongoing support.&nbsp\;
LOCATION:1129 Airline Corpus Christi\, TX
UID:e.1866.28522
SEQUENCE:3
DTSTAMP:20260424T013948Z
URL:https://chamber.unitedcorpuschristi.org/events/details/grand-opening-and-ribbon-cutting-for-luxe-realty-group-28522
END:VEVENT

END:VCALENDAR
