BEGIN:VCALENDAR
VERSION:2.0
PRODID:-//ChamberMaster//Event Calendar 2.0//EN
METHOD:PUBLISH
X-PUBLISHED-TTL:P3D
REFRESH-INTERVAL:P3D
CALSCALE:GREGORIAN
BEGIN:VEVENT
DTSTART:20230121T180000Z
DTEND:20230121T200000Z
X-MICROSOFT-CDO-ALLDAYEVENT:FALSE
SUMMARY:Grand Opening and Ribbon Cutting for Liquid Launch Nutrition\, LLC
DESCRIPTION:Liquid Launch is a Minority/Women owned business\, new to the Corpus Christi area. We are thrilled to be serving our community.  "Let us launch your day into the right direction" with healthy teas that boost metabolism and support mental alertness. Protein shakes that have 24 vitamins and minerals and other nutritional products.
X-ALT-DESC;FMTTYPE=text/html:Liquid Launch is a Minority/Women owned business\, new to the Corpus Christi area. We are thrilled to be serving our community.&nbsp\; &ldquo\;Let us launch your day into the right direction&rdquo\; with healthy teas that boost metabolism and support mental alertness. Protein shakes that have 24 vitamins and minerals and other nutritional products.
LOCATION:4510 Weber Rd\, Ste B in the same shopping center as Silverado Smokehouse
UID:e.1866.28512
SEQUENCE:3
DTSTAMP:20260423T231406Z
URL:https://chamber.unitedcorpuschristi.org/events/details/grand-opening-and-ribbon-cutting-for-liquid-launch-nutrition-llc-28512
END:VEVENT

END:VCALENDAR
