BEGIN:VCALENDAR
VERSION:2.0
PRODID:-//ChamberMaster//Event Calendar 2.0//EN
METHOD:PUBLISH
X-PUBLISHED-TTL:P3D
REFRESH-INTERVAL:P3D
CALSCALE:GREGORIAN
BEGIN:VEVENT
DTSTART:20220506T163000Z
DTEND:20220506T180000Z
X-MICROSOFT-CDO-ALLDAYEVENT:FALSE
SUMMARY:Grand Opening and Ribbon Cutting for KIC Manufacturing (Keep It Cold)
DESCRIPTION:Moving our manufacturing from California to business-friendly Corpus Christi is an exciting time for our company\," said Karen Tucker\, COO of Keep It Cold. "Texas has welcomed us with open arms and we are thrilled to become part of the Corpus Christi community."\n\n\n\nKeep It Cold is more than a name\, it's a commitment to provide cold storage solutions for every customer demand\, from front-line responders\, to universities\, to area businesses\," said Larry Klein\, CEO and Founder.\n\n\n\nLarry Klein has been in the events and catering business for over 25 years. He built his first cold trailers for his company needs and discovered a demand for them that needed to be filled. \n\n\n\nJudge Barbara Canalas\, Nueces County Judge will be speaking.
X-ALT-DESC;FMTTYPE=text/html:Moving our manufacturing from California to business-friendly Corpus Christi is an exciting time for our company\,&rdquo\; said Karen Tucker\, COO of Keep It Cold. &ldquo\;Texas has welcomed us with open arms and we are thrilled to become part of the Corpus Christi community.&rdquo\;<br />\n<br />\nKeep It Cold is more than a name\, it&#39\;s a commitment to provide cold storage solutions for every customer demand\, from front-line responders\, to universities\, to area businesses\,&quot\; said Larry Klein\, CEO and Founder.<br />\n<br />\nLarry Klein has been in the events and catering business for over 25 years. He built his first cold trailers for his company needs and discovered a demand for them that needed to be filled.&nbsp\;<br />\n<br />\nJudge Barbara Canalas\, Nueces County Judge will be speaking.<br />\n
LOCATION:Corpus Christi International Airport 514 Hangar Lane\, Corpus Christi\, 78406
UID:e.1866.27450
SEQUENCE:3
DTSTAMP:20260423T120611Z
URL:https://chamber.unitedcorpuschristi.org/events/details/grand-opening-and-ribbon-cutting-for-kic-manufacturing-keep-it-cold-27450
END:VEVENT

END:VCALENDAR
