BEGIN:VCALENDAR
VERSION:2.0
PRODID:-//ChamberMaster//Event Calendar 2.0//EN
METHOD:PUBLISH
X-PUBLISHED-TTL:P3D
REFRESH-INTERVAL:P3D
CALSCALE:GREGORIAN
BEGIN:VEVENT
DTSTART:20220909T230000Z
DTEND:20220910T010000Z
X-MICROSOFT-CDO-ALLDAYEVENT:FALSE
SUMMARY:Grand Opening and Ribbon Cutting for HomeSource Mortgage
DESCRIPTION:Come and join our ribbon cutting ceremony!
X-ALT-DESC;FMTTYPE=text/html:Come and join our ribbon cutting ceremony!
LOCATION:2301 Airline Rd\, Corpus Christi\, Texas 78414
UID:e.1866.27709
SEQUENCE:3
DTSTAMP:20260423T180532Z
URL:https://chamber.unitedcorpuschristi.org/events/details/grand-opening-and-ribbon-cutting-for-homesource-mortgage-27709
END:VEVENT

END:VCALENDAR
