BEGIN:VCALENDAR
VERSION:2.0
PRODID:-//ChamberMaster//Event Calendar 2.0//EN
METHOD:PUBLISH
X-PUBLISHED-TTL:P3D
REFRESH-INTERVAL:P3D
CALSCALE:GREGORIAN
BEGIN:VEVENT
DTSTART:20220630T210000Z
DTEND:20220630T230000Z
X-MICROSOFT-CDO-ALLDAYEVENT:FALSE
SUMMARY:Grand Opening and Ribbon Cutting for Gateway Mortgage
DESCRIPTION:Chamber Ribbon Cutting\, Door Prizes\, Food\, Cocktails\, and Music!
X-ALT-DESC;FMTTYPE=text/html:Chamber Ribbon Cutting\, Door Prizes\, Food\, Cocktails\, and Music!
LOCATION:5702 S. Staples Suite E-7
UID:e.1866.27477
SEQUENCE:3
DTSTAMP:20260423T132346Z
URL:https://chamber.unitedcorpuschristi.org/events/details/grand-opening-and-ribbon-cutting-for-gateway-mortgage-27477
END:VEVENT

END:VCALENDAR
