BEGIN:VCALENDAR
VERSION:2.0
PRODID:-//ChamberMaster//Event Calendar 2.0//EN
METHOD:PUBLISH
X-PUBLISHED-TTL:P3D
REFRESH-INTERVAL:P3D
CALSCALE:GREGORIAN
BEGIN:VEVENT
DTSTART:20220723T180000Z
DTEND:20220723T200000Z
X-MICROSOFT-CDO-ALLDAYEVENT:FALSE
SUMMARY:Grand Opening and Ribbon Cutting for F45 Training Corpus Christi
DESCRIPTION:F45 is specifically designed to provide a full-body workout while improving energy levels\, metabolic rate\, strength\, and endurance.  The team mentally helps members transform their lifestyle.
X-ALT-DESC;FMTTYPE=text/html:F45 is specifically designed to provide a full-body workout while improving energy levels\, metabolic rate\, strength\, and endurance.&nbsp\; The team mentally helps members transform their lifestyle.&nbsp\;
LOCATION:7514 S Padre Island Dr\, Corpus Christi\, Texas 78412
UID:e.1866.27487
SEQUENCE:3
DTSTAMP:20260423T151005Z
URL:https://chamber.unitedcorpuschristi.org/events/details/grand-opening-and-ribbon-cutting-for-f45-training-corpus-christi-27487
END:VEVENT

END:VCALENDAR
