BEGIN:VCALENDAR
VERSION:2.0
PRODID:-//ChamberMaster//Event Calendar 2.0//EN
METHOD:PUBLISH
X-PUBLISHED-TTL:P3D
REFRESH-INTERVAL:P3D
CALSCALE:GREGORIAN
BEGIN:VEVENT
DTSTART:20230202T220000Z
DTEND:20230203T000000Z
X-MICROSOFT-CDO-ALLDAYEVENT:FALSE
SUMMARY:Grand Opening and Ribbon Cutting for DHRP
DESCRIPTION:Owners Trish and Mike Hoover have over 45 years of combined experience in commercial real estate and property management. DHRP is proud to be a Texas based\, woman and minority owned company. We look forward to contributing our experience and resources in service of the Corpus Christi and Coastal Bend communities.\n\n\n\n"We are thrilled to be a part of the Corpus Christi and Coastal Bend Community"\n\n"DHRP is honored to service the commercial real estate and property management needs of the great city of Corpus Christi"\n\n\n\nOwners Trish and Mike Hoover have over 45 years of combined experience in commercial real estate and property management. DHRP is proud to be a Texas based woman and minority owned company.\n\n\n\nFrank Stanley is the Director of our new Coastal Bend real estate division. Frank joins our team from Cushman & Wakefield with over 22 years of brokerage experience. His real estate background includes the successful oversite of 19 real estate development projects valued at over $2 Billion Dollars located in United States\, Bahamas\, Mexico\, Belize and Costa Rica. A leader in global supply management facilitating industrial clients in increasing revenue with improved efficiency. Repositioned organizations challenged with slowing markets in planning and posturing in order to increase market revenue. He is a proven leader and has served as an officer in the United States Army both on active duty and in the reserves for 39 years. During his tenure in the military\, Frank managed the construction of several SCIF facilities in arduous environments. Frank holds a B.S. from Sam Houston State University and a MSS from the U.S. Army War College. He is a dedicated husband\, father and grandfather and is proud to call the Coastal Bend community his permanent home.\n\n\n\n4pm Ribbon Cutting with the Mayor. Cocktails and food to follow immediately from 4-6 in the Lobby. Tours of the office will be provided from 4-6.
X-ALT-DESC;FMTTYPE=text/html:Owners Trish and Mike Hoover have over 45 years of combined experience in commercial real estate and property management. DHRP is proud to be a Texas based\, woman and minority owned company. We look forward to contributing our experience and resources in service of the Corpus Christi and Coastal Bend communities.<br />\n<br />\n&ldquo\;We are thrilled to be a part of the Corpus Christi and Coastal Bend Community&rdquo\;<br />\n&ldquo\;DHRP is honored to service the commercial real estate and property management needs of the great city of Corpus Christi&rdquo\;<br />\n<br />\nOwners Trish and Mike Hoover have over 45 years of combined experience in commercial real estate and property management. DHRP is proud to be a Texas based woman and minority owned company.<br />\n<br />\nFrank Stanley is the Director of our new Coastal Bend real estate division. Frank joins our team from Cushman &amp\; Wakefield with over 22 years of brokerage experience. His real estate background includes the successful oversite of 19 real estate development projects valued at over $2 Billion Dollars located in United States\, Bahamas\, Mexico\, Belize and Costa Rica. A leader in global supply management facilitating industrial clients in increasing revenue with improved efficiency. Repositioned organizations challenged with slowing markets in planning and posturing in order to increase market revenue. He is a proven leader and has served as an officer in the United States Army both on active duty and in the reserves for 39 years. During his tenure in the military\, Frank managed the construction of several SCIF facilities in arduous environments. Frank holds a B.S. from Sam Houston State University and a MSS from the U.S. Army War College. He is a dedicated husband\, father and grandfather and is proud to call the Coastal Bend community his permanent home.<br />\n<br />\n4pm Ribbon Cutting with the Mayor. Cocktails and food to follow immediately from 4-6 in the Lobby. Tours of the office will be provided from 4-6.
LOCATION:500 N Shoreline Blvd. Suite 604\, Corpus Christi TX. 78401 (Plains Capital Building)
UID:e.1866.28519
SEQUENCE:3
DTSTAMP:20260424T003933Z
URL:https://chamber.unitedcorpuschristi.org/events/details/grand-opening-and-ribbon-cutting-for-dhrp-28519
END:VEVENT

END:VCALENDAR
