BEGIN:VCALENDAR
VERSION:2.0
PRODID:-//ChamberMaster//Event Calendar 2.0//EN
METHOD:PUBLISH
X-PUBLISHED-TTL:P3D
REFRESH-INTERVAL:P3D
CALSCALE:GREGORIAN
BEGIN:VEVENT
DTSTART:20230217T170000Z
DTEND:20230217T190000Z
X-MICROSOFT-CDO-ALLDAYEVENT:FALSE
SUMMARY:Grand Opening and Ribbon Cutting for D’Lites Cream
DESCRIPTION:D'Lites Cream specializes in ice cream that is low in sodium\, sugar\, fat\, and carbohydrates. It is cholesterol free\, and a healthier alternative to regular ice cream.  This product is ideal for those monitoring their carbohydrate\, fat or calorie intake and it tastes delicious.  D'Lites Cream also offers other grocery products with healthier choices.\n\n\n\nYes\, we will be having a drawing for a food and product giveaway as well as gift cards.\n\n\n\nWhen Rex and I moved from Florida almost 2 years ago we realized how much we missed D'Lites Ice cream.  We soon realized that there was nothing like this product in or around Corpus Christi and we wanted to share it with this community.  The ice cream tastes amazing and with the low carbohydrate\, fat and calorie content\, this much healthier alternative ice cream is a guilt free option sure to please.\n\n\n\nThere will be live screen printing of tee shirts and tote bags as well as the opportunity place special orders with Elevated Screen Printing which is a local business that originated here in Corpus Christi.
X-ALT-DESC;FMTTYPE=text/html:D&rsquo\;Lites Cream specializes in ice cream that is low in sodium\, sugar\, fat\, and carbohydrates. It is cholesterol free\, and a healthier alternative to regular ice cream.&nbsp\; This product is ideal for those monitoring their carbohydrate\, fat or calorie intake and it tastes delicious.&nbsp\; D&rsquo\;Lites Cream also offers other grocery products with healthier choices.<br />\n<br />\nYes\, we will be having a drawing for a food and product giveaway as well as gift cards.<br />\n<br />\nWhen Rex and I moved from Florida almost 2 years ago we realized how much we missed D&rsquo\;Lites Ice cream.&nbsp\; We soon realized that there was nothing like this product in or around Corpus Christi and we wanted to share it with this community.&nbsp\; The ice cream tastes amazing and with the low carbohydrate\, fat and calorie content\, this much healthier alternative ice cream is a guilt free option sure to please.<br />\n<br />\nThere will be live screen printing of tee shirts and tote bags as well as the opportunity place special orders with Elevated Screen Printing which is a local business that originated here in Corpus Christi.
LOCATION:6202 Dunbarton Oak Dr. Suite 500 Corpus Christi. We are close to the corner of Cimarron and Saratoga behind the apartment complex on the corner.
UID:e.1866.28524
SEQUENCE:3
DTSTAMP:20260424T003937Z
URL:https://chamber.unitedcorpuschristi.org/events/details/grand-opening-and-ribbon-cutting-for-d-lites-cream-28524
END:VEVENT

END:VCALENDAR
