BEGIN:VCALENDAR
VERSION:2.0
PRODID:-//ChamberMaster//Event Calendar 2.0//EN
METHOD:PUBLISH
X-PUBLISHED-TTL:P3D
REFRESH-INTERVAL:P3D
CALSCALE:GREGORIAN
BEGIN:VEVENT
DTSTART:20220901T200000Z
DTEND:20220901T220000Z
X-MICROSOFT-CDO-ALLDAYEVENT:FALSE
SUMMARY:Grand Opening and Ribbon Cutting for Conviva Care Center Ayers
DESCRIPTION:Our team of professionals is excited to grow our footprint in Corpus Christi and bring healthcare access to more seniors with our new Ayers Street location.  This is Conviva's third center in Corpus Christi\, joining Bayside (4254 Alameda Street) and Central Corpus (917 S. Port Ave.)\, and we look forward to meeting our new neighbors. Conviva Care Centers offer whole-person\, senior-focused primary care aimed primarily at members of Medicare Advantage health plans.\n\n \n\nConviva operates approximately 150 senior-focused primary care centers\, including those in El Paso and San Antonio as well as much of Florida. We know seniors' healthcare needs are different from those in other groups\, and our physician-led care teams address both physical and behavioral health\, along with social factors that play a role in a patient's wellbeing. Find out more about us at ConvivaCareCenters.com\n\n \nGroup Gathers in Front\, Photo opportunity\, Ribbon is cut.  Everyone then heads inside to gather in the Activity Center for brief introductions by Leadership\, Short Community Leader/Mayor speech and light refreshments followed by tours of the center.
X-ALT-DESC;FMTTYPE=text/html:<div>Our team of professionals is excited to grow our footprint in Corpus Christi and bring healthcare access to more seniors with our new Ayers Street location.&nbsp\; This is Conviva&rsquo\;s third center in Corpus Christi\, joining Bayside (4254 Alameda Street) and Central Corpus (917 S. Port Ave.)\, and we look forward to meeting our new neighbors. Conviva Care Centers offer whole-person\, senior-focused primary care aimed primarily at members of Medicare Advantage health plans.</div>\n\n<div>&nbsp\;</div>\n\n<div>Conviva operates approximately 150 senior-focused primary care centers\, including those in El Paso and San Antonio as well as much of Florida. We know seniors&rsquo\; healthcare needs are different from those in other groups\, and our physician-led care teams address both physical and behavioral health\, along with social factors that play a role in a patient&rsquo\;s wellbeing. Find out more about us at ConvivaCareCenters.com<br />\n&nbsp\;</div>\nGroup Gathers in Front\, Photo opportunity\, Ribbon is cut.&nbsp\; Everyone then heads inside to gather in the Activity Center for brief introductions by Leadership\, Short Community Leader/Mayor speech and light refreshments followed by tours of the center.
LOCATION:4918 Ayers Street Corpus Christi\, TX 78415
UID:e.1866.27501
SEQUENCE:3
DTSTAMP:20260423T180624Z
URL:https://chamber.unitedcorpuschristi.org/events/details/grand-opening-and-ribbon-cutting-for-conviva-care-center-ayers-27501
END:VEVENT

END:VCALENDAR
