BEGIN:VCALENDAR
VERSION:2.0
PRODID:-//ChamberMaster//Event Calendar 2.0//EN
METHOD:PUBLISH
X-PUBLISHED-TTL:P3D
REFRESH-INTERVAL:P3D
CALSCALE:GREGORIAN
BEGIN:VEVENT
DTSTART:20230322T213000Z
DTEND:20230322T230000Z
X-MICROSOFT-CDO-ALLDAYEVENT:FALSE
SUMMARY:Grand Opening and Ribbon Cutting for Advanced Lymphedema Specialists\, LLC
DESCRIPTION:Meet our staff and tour our clinic while you enjoy refreshments\, door prizes and more!
X-ALT-DESC;FMTTYPE=text/html:Meet our staff and tour our clinic while you enjoy refreshments\, door prizes and more!
LOCATION:1521 S. Staples St. Suite 401 Corpus Christi\, TX 78404
UID:e.1866.28673
SEQUENCE:3
DTSTAMP:20260424T024814Z
URL:https://chamber.unitedcorpuschristi.org/events/details/grand-opening-and-ribbon-cutting-for-advanced-lymphedema-specialists-llc-28673
END:VEVENT

END:VCALENDAR
