BEGIN:VCALENDAR
VERSION:2.0
PRODID:-//ChamberMaster//Event Calendar 2.0//EN
METHOD:PUBLISH
X-PUBLISHED-TTL:P3D
REFRESH-INTERVAL:P3D
CALSCALE:GREGORIAN
BEGIN:VEVENT
DTSTART:20220402T150000Z
DTEND:20220402T170000Z
X-MICROSOFT-CDO-ALLDAYEVENT:FALSE
SUMMARY:Grand Opening and Ribbon Cutting Ceremony for TRUECARE MEDICAL ASSOCIATES AND TRUE CARE PHYSICAL THERAPY
DESCRIPTION:True Care Physical Therapy is thrilled on its expansion to a new location to continue to help our patients function\, move\, and live better. \n\nTrueCare Medical Associates is excited to open its new location to provide quality healthcare\, improve health outcomes.\n\n\n\nhors d'oeuvres and drinks will be served \n\n\n\nFree valet parking
X-ALT-DESC;FMTTYPE=text/html:True Care Physical Therapy is thrilled on its expansion to a new location to continue to help our patients function\, move\, and live better.&nbsp\;<br />\nTrueCare Medical Associates is excited to open its new location to provide quality healthcare\, improve health outcomes.<br />\n<br />\nhors d&#39\;oeuvres and drinks will be served&nbsp\;<br />\n<br />\nFree valet parking&nbsp\;
LOCATION:6330 SARATOGA BLVD\, CC\, TX 78414
UID:e.1866.27427
SEQUENCE:3
DTSTAMP:20260423T114455Z
URL:https://chamber.unitedcorpuschristi.org/events/details/grand-opening-and-ribbon-cutting-ceremony-for-truecare-medical-associates-and-true-care-physical-therapy-27427
END:VEVENT

END:VCALENDAR
