BEGIN:VCALENDAR
VERSION:2.0
PRODID:-//ChamberMaster//Event Calendar 2.0//EN
METHOD:PUBLISH
X-PUBLISHED-TTL:P3D
REFRESH-INTERVAL:P3D
CALSCALE:GREGORIAN
BEGIN:VEVENT
DTSTART:20220504T150000Z
DTEND:20220504T170000Z
X-MICROSOFT-CDO-ALLDAYEVENT:FALSE
SUMMARY:Grand Opening and Ribbon Cutting Ceremony for sanosoma bodywork +education
DESCRIPTION:Our goal is to help you restore your body's balance and help you bloom by easing tension and working on injuries that are keeping you from your fullest life. Movement is medicine. Your body is your friend.
X-ALT-DESC;FMTTYPE=text/html:Our goal is to help you restore your body&#39\;s balance and help you bloom by easing tension and working on injuries that are keeping you from your fullest life. Movement is medicine. Your body is your friend.
LOCATION:416 N. Water St\, Suite 600\, Corpus Christi\, TX 78401
UID:e.1866.27417
SEQUENCE:3
DTSTAMP:20260423T121106Z
URL:https://chamber.unitedcorpuschristi.org/events/details/grand-opening-and-ribbon-cutting-ceremony-for-sanosoma-bodywork-education-27417
END:VEVENT

END:VCALENDAR
