BEGIN:VCALENDAR
VERSION:2.0
PRODID:-//ChamberMaster//Event Calendar 2.0//EN
METHOD:PUBLISH
X-PUBLISHED-TTL:P3D
REFRESH-INTERVAL:P3D
CALSCALE:GREGORIAN
BEGIN:VEVENT
DTSTART:20220331T143000Z
DTEND:20220331T160000Z
X-MICROSOFT-CDO-ALLDAYEVENT:FALSE
SUMMARY:Grand Opening and Ribbon Cutting Ceremony for GO Car Wash
DESCRIPTION:We?re thrilled to continue our Corpus Christi expansion and we look forward to serving customers at our newest location with the same speed\, quality and friendly service that are all hallmarks of the GO brand. ? CEO Bill Derwin
X-ALT-DESC;FMTTYPE=text/html:We?re thrilled to continue our Corpus Christi expansion and we look forward to serving customers at our newest location with the same speed\, quality and friendly service that are all hallmarks of the GO brand. ? CEO Bill Derwin
LOCATION:6729 Everhart Rd\, Corpus Christi\, Tx. 78413
UID:e.1866.27407
SEQUENCE:3
DTSTAMP:20260423T085134Z
URL:https://chamber.unitedcorpuschristi.org/events/details/grand-opening-and-ribbon-cutting-ceremony-for-go-car-wash-27407
END:VEVENT

END:VCALENDAR
