BEGIN:VCALENDAR
VERSION:2.0
PRODID:-//ChamberMaster//Event Calendar 2.0//EN
METHOD:PUBLISH
X-PUBLISHED-TTL:P3D
REFRESH-INTERVAL:P3D
CALSCALE:GREGORIAN
BEGIN:VEVENT
DTSTART:20230325T203000Z
DTEND:20230325T220000Z
X-MICROSOFT-CDO-ALLDAYEVENT:FALSE
SUMMARY:Grand Opening and Ribbon Cutting Ceremony for Finders Keepers Classics
DESCRIPTION:Open to the Community. Free Food\, Free Drinks\, and Live Entertainment
X-ALT-DESC;FMTTYPE=text/html:Open to the Community. Free Food\, Free Drinks\, and Live Entertainment&nbsp\;
LOCATION:3802 Apollo Rd. Corpus Christi\, TX 78413
UID:e.1866.28674
SEQUENCE:3
DTSTAMP:20260424T025005Z
URL:https://chamber.unitedcorpuschristi.org/events/details/grand-opening-and-ribbon-cutting-ceremony-for-finders-keepers-classics-28674
END:VEVENT

END:VCALENDAR
