BEGIN:VCALENDAR
VERSION:2.0
PRODID:-//ChamberMaster//Event Calendar 2.0//EN
METHOD:PUBLISH
X-PUBLISHED-TTL:P3D
REFRESH-INTERVAL:P3D
CALSCALE:GREGORIAN
BEGIN:VEVENT
DTSTART:20220305T190000Z
DTEND:20220305T210000Z
X-MICROSOFT-CDO-ALLDAYEVENT:FALSE
SUMMARY:Grand Opening and Ribbon Cutting Ceremony for Blakely Rae Boutique
DESCRIPTION:Born and raised right here! Had a dream and didn't stop until we made it!\n\nIt has been 6 years in the making. Long story.
X-ALT-DESC;FMTTYPE=text/html:Born and raised right here! Had a dream and didn&rsquo\;t stop until we made it!<br />\nIt has been 6 years in the making. Long story.&nbsp\;
LOCATION:6702 S Staples Suite E\, Corpus Christi TX
UID:e.1866.27415
SEQUENCE:3
DTSTAMP:20260423T085100Z
URL:https://chamber.unitedcorpuschristi.org/events/details/grand-opening-and-ribbon-cutting-ceremony-for-blakely-rae-boutique-27415
END:VEVENT

END:VCALENDAR
