BEGIN:VCALENDAR
VERSION:2.0
PRODID:-//ChamberMaster//Event Calendar 2.0//EN
METHOD:PUBLISH
X-PUBLISHED-TTL:P3D
REFRESH-INTERVAL:P3D
CALSCALE:GREGORIAN
BEGIN:VEVENT
DTSTART:20220304T180000Z
DTEND:20220304T200000Z
X-MICROSOFT-CDO-ALLDAYEVENT:FALSE
SUMMARY:Grand Opening and Ribbon Cutting Ceremony for Big H Building Material Surplus\, LLC
DESCRIPTION:We love our CC and appreciate everyone's support!  Samantha has started her business off her passion to design and build a relationship with the community.
X-ALT-DESC;FMTTYPE=text/html:We love our CC and appreciate everyone&#39\;s support!&nbsp\; Samantha has started her business off her passion to design and build a relationship with the community.
LOCATION:117 Airport Rd\, Corpus Christi\, TX 78405 (between Baldwin and Ayers)
UID:e.1866.27388
SEQUENCE:3
DTSTAMP:20260423T085145Z
URL:https://chamber.unitedcorpuschristi.org/events/details/grand-opening-and-ribbon-cutting-ceremony-for-big-h-building-material-surplus-llc-27388
END:VEVENT

END:VCALENDAR
