BEGIN:VCALENDAR
VERSION:2.0
PRODID:-//ChamberMaster//Event Calendar 2.0//EN
METHOD:PUBLISH
X-PUBLISHED-TTL:P3D
REFRESH-INTERVAL:P3D
CALSCALE:GREGORIAN
BEGIN:VEVENT
DTSTART:20220305T013000Z
DTEND:20220305T030000Z
X-MICROSOFT-CDO-ALLDAYEVENT:FALSE
SUMMARY:Furgason Bravo Series: Mariachi Las Alteñas
DESCRIPTION:he Performing Arts Center at Texas A&M University-Corpus Christi presents Mariachi Las Alte as as the third show in the 2021-2022 Furgason Bravo Concert Series. The show will be held at 7:30 p.m. on Friday\, Mar. 4. Mariachi Las Alte as is an all-female mariachi group that is making waves across the United States. Hailing from San Antonio\, the group has been featured on NBC Nightly News and ABC's Good Morning America for its groundbreaking musical celebration! This performance is supported in part by a grant from the Texas Commission on the Arts. Reserved seat ticket prices are $20 for general admission and $15 for seniors.
X-ALT-DESC;FMTTYPE=text/html:<span style="color:rgb(40\, 60\, 70)\; font-family:-apple-system\,system-ui\,system-ui\,segoe ui\,helvetica\,arial\,sans-serif\,apple color emoji\,segoe ui emoji\,segoe ui symbol\; font-size:19.8px">he Performing Arts Center at Texas A&amp\;M University-Corpus Christi presents Mariachi Las Alte&ntilde\;as as the third show in the 2021-2022 Furgason Bravo Concert Series. The show will be held at 7:30 p.m. on Friday\, Mar. 4. Mariachi Las Alte&ntilde\;as is an all-female mariachi group that is making waves across the United States. Hailing from San Antonio\, the group has been featured on NBC Nightly News and ABC&rsquo\;s Good Morning America for its groundbreaking musical celebration! This performance is supported in part by a grant from the Texas Commission on the Arts. Reserved seat ticket prices are $20 for general admission and $15 for seniors.</span>
LOCATION:Performing Arts Center at Texas A&M University-Corpus Christi
UID:e.1866.27411
SEQUENCE:3
DTSTAMP:20260423T084702Z
URL:https://chamber.unitedcorpuschristi.org/events/details/furgason-bravo-series-mariachi-las-alte&#241;as-27411
END:VEVENT

END:VCALENDAR
