BEGIN:VCALENDAR
VERSION:2.0
PRODID:-//ChamberMaster//Event Calendar 2.0//EN
METHOD:PUBLISH
X-PUBLISHED-TTL:P3D
REFRESH-INTERVAL:P3D
CALSCALE:GREGORIAN
BEGIN:VEVENT
DTSTART:20220430T003000Z
DTEND:20220430T020000Z
X-MICROSOFT-CDO-ALLDAYEVENT:FALSE
SUMMARY:Furgason Bravo Series: Calmus
DESCRIPTION:The Performing Arts Center at Texas A&M University-Corpus Christi presents Calmus as the final show in the 2021-2022 Furgason Bravo Concert Series. Described as "nothing short of remarkable  they\, quite simply\, bring whatever they sing to glorious life" by Deseret Morning News\, Calmus was founded in 1999 in Germany. The a cappella quintet embodies the rich choral tradition of its hometown of Leipzig\, the city so closely associated with Bach and Mendelssohn. The Corpus Christi Chorale will join Calmus for part of their program. The show will be held at 7:30 p.m. on Friday\, Apr. 29.
X-ALT-DESC;FMTTYPE=text/html:<span style="color:rgb(40\, 60\, 70)\; font-family:-apple-system\,system-ui\,system-ui\,segoe ui\,helvetica\,arial\,sans-serif\,apple color emoji\,segoe ui emoji\,segoe ui symbol\; font-size:19.8px">The Performing Arts Center at Texas A&amp\;M University-Corpus Christi presents Calmus as the final show in the 2021-2022 Furgason Bravo Concert Series. Described as &ldquo\;nothing short of remarkable&hellip\; they\, quite simply\, bring whatever they sing to glorious life&rdquo\; by Deseret Morning News\, Calmus was founded in 1999 in Germany. The a cappella quintet embodies the rich choral tradition of its hometown of Leipzig\, the city so closely associated with Bach and Mendelssohn. The Corpus Christi Chorale will join Calmus for part of their program. The show will be held at 7:30 p.m. on Friday\, Apr. 29.</span>
LOCATION:Texas A&M University-Corpus Christi Performing Arts Center
UID:e.1866.27445
SEQUENCE:3
DTSTAMP:20260423T114130Z
URL:https://chamber.unitedcorpuschristi.org/events/details/furgason-bravo-series-calmus-27445
END:VEVENT

END:VCALENDAR
