BEGIN:VCALENDAR
VERSION:2.0
PRODID:-//ChamberMaster//Event Calendar 2.0//EN
METHOD:PUBLISH
X-PUBLISHED-TTL:P3D
REFRESH-INTERVAL:P3D
CALSCALE:GREGORIAN
BEGIN:VEVENT
DTSTART:20220324T003000Z
DTEND:20220324T020000Z
X-MICROSOFT-CDO-ALLDAYEVENT:FALSE
SUMMARY:Furgason Bravo Series: Boston Brass
DESCRIPTION:The Performing Arts Center at Texas A&M University-Corpus Christi presents Boston Brass as the fourth show in the 2021-2022 Furgason Bravo Concert Series. The show will be held at 7:30 p.m. on Wednesday\, Mar. 23. For over 30 years\, Boston Brass has set out to establish a one-of-a-kind musical experience. From exciting classical arrangements to burning jazz standards and the best of original brass repertoire\, Boston Brass treats audiences to a unique brand of entertainment that captivates all ages. Reserved seat ticket prices are $20 for general admission and $15 for seniors. TAMU-CC student tickets are $7 (with valid SandDollar$ ID).
X-ALT-DESC;FMTTYPE=text/html:<span style="color:rgb(40\, 60\, 70)\; font-family:-apple-system\,system-ui\,system-ui\,segoe ui\,helvetica\,arial\,sans-serif\,apple color emoji\,segoe ui emoji\,segoe ui symbol\; font-size:19.8px">The Performing Arts Center at Texas A&amp\;M University-Corpus Christi presents Boston Brass as the fourth show in the 2021-2022 Furgason Bravo Concert Series. The show will be held at 7:30 p.m. on Wednesday\, Mar. 23. For over 30 years\, Boston Brass has set out to establish a one-of-a-kind musical experience. From exciting classical arrangements to burning jazz standards and the best of original brass repertoire\, Boston Brass treats audiences to a unique brand of entertainment that captivates all ages. Reserved seat ticket prices are $20 for general admission and $15 for seniors. TAMU-CC student tickets are $7 (with valid SandDollar$ ID).</span>
LOCATION:Performing Arts Center at Texas A&M University-Corpus Christi
UID:e.1866.27413
SEQUENCE:3
DTSTAMP:20260423T084541Z
URL:https://chamber.unitedcorpuschristi.org/events/details/furgason-bravo-series-boston-brass-27413
END:VEVENT

END:VCALENDAR
