BEGIN:VCALENDAR
VERSION:2.0
PRODID:-//ChamberMaster//Event Calendar 2.0//EN
METHOD:PUBLISH
X-PUBLISHED-TTL:P3D
REFRESH-INTERVAL:P3D
CALSCALE:GREGORIAN
BEGIN:VEVENT
DTSTART:20230308T200000Z
DTEND:20230308T204500Z
X-MICROSOFT-CDO-ALLDAYEVENT:FALSE
SUMMARY:Exploring Government Contracting - What's it all about?
DESCRIPTION:
X-ALT-DESC;FMTTYPE=text/html:
LOCATION:
UID:e.1866.28729
SEQUENCE:3
DTSTAMP:20260424T024219Z
URL:https://chamber.unitedcorpuschristi.org/events/details/exploring-government-contracting-what-s-it-all-about-28729
END:VEVENT

END:VCALENDAR
