BEGIN:VCALENDAR
VERSION:2.0
PRODID:-//ChamberMaster//Event Calendar 2.0//EN
METHOD:PUBLISH
X-PUBLISHED-TTL:P3D
REFRESH-INTERVAL:P3D
CALSCALE:GREGORIAN
BEGIN:VEVENT
DTSTART:20230118T160000Z
DTEND:20230121T230000Z
X-MICROSOFT-CDO-ALLDAYEVENT:FALSE
SUMMARY:Estate Sale/Auction Hybrid
DESCRIPTION:This is a one of a kind Estate Sale/ Auction\, the two are very rarely\, if they have ever been done together before.  Don't miss this historic event.  Not to mention the great deals that come with each of these events.
X-ALT-DESC;FMTTYPE=text/html:This is a one of a kind Estate Sale/ Auction\, the two are very rarely\, if they have ever been done together before.&nbsp\; Don&#39\;t miss this historic event.&nbsp\; Not to mention the great deals that come with each of these events.
LOCATION:7921 Etienne Dr. Corpus Christi\, TX 78414
UID:e.1866.27765
SEQUENCE:3
DTSTAMP:20260423T231448Z
URL:https://chamber.unitedcorpuschristi.org/events/details/estate-sale-auction-hybrid-27765
END:VEVENT

END:VCALENDAR
