BEGIN:VCALENDAR
VERSION:2.0
PRODID:-//ChamberMaster//Event Calendar 2.0//EN
METHOD:PUBLISH
X-PUBLISHED-TTL:P3D
REFRESH-INTERVAL:P3D
CALSCALE:GREGORIAN
BEGIN:VEVENT
DTSTART:20221102T153000Z
DTEND:20221102T163000Z
X-MICROSOFT-CDO-ALLDAYEVENT:FALSE
SUMMARY:Doing Business with Giants Workshop: Creating\, Delivering\, Communicating and Capturing Value
DESCRIPTION:The Coastal Bend Business Innovation Center (CBBIC) at TAMU-CC and Cheniere Energy have teamed up to facilitate a series of six workshops designed to assist innovative\, local entrepreneurs in developing business models that align with and fulfill industry supply-chain needs while strengthening the local economy. At the conclusion of the six workshops\, participants who meet application criteria can apply for grant funds from Cheniere with awards ranging from $5\,000 to $20\,000. Workshops will be hosted from September through November and are free and open to the public. Workshops will be held from 10:30-11:30 a.m.
X-ALT-DESC;FMTTYPE=text/html:<span style="color:rgb(50\, 49\, 48)\; font-family:tahoma\,sans-serif\; font-size:14.6667px">The Coastal Bend Business Innovation Center (CBBIC) at TAMU-CC and Cheniere Energy have teamed up to facilitate a series of six workshops designed to assist innovative\, local entrepreneurs in developing business models that align with and fulfill industry supply-chain needs while strengthening the local economy. At the conclusion of the six workshops\, participants who meet application criteria can apply for grant funds from Cheniere with awards ranging from $5\,000 to $20\,000. Workshops will be hosted from September through November and are free and open to the public. Workshops will be held from 10:30-11:30 a.m.</span>
LOCATION:Coastal Bend Business Innovation Center
UID:e.1866.27719
SEQUENCE:3
DTSTAMP:20260423T205813Z
URL:https://chamber.unitedcorpuschristi.org/events/details/doing-business-with-giants-workshop-creating-delivering-communicating-and-capturing-value-27719
END:VEVENT

END:VCALENDAR
