BEGIN:VCALENDAR
VERSION:2.0
PRODID:-//ChamberMaster//Event Calendar 2.0//EN
METHOD:PUBLISH
X-PUBLISHED-TTL:P3D
REFRESH-INTERVAL:P3D
CALSCALE:GREGORIAN
BEGIN:VEVENT
DTSTART:20230228T150000Z
DTEND:20230228T160000Z
X-MICROSOFT-CDO-ALLDAYEVENT:FALSE
SUMMARY:Diversity & Inclusion Committee
DESCRIPTION:United Corpus Christi Chamber of Commerce Diversity & Inclusion Committee \n\nFocused on fostering economic development and opportunities to inspire entrepreneurship of small\, diverse emerging businesses through collaboration\, partnerships and leveraging of resources.\n\n\n\nPrograms include:\n\n	Lemonade Day Coastal Bend\n	Supplier Diversity & Procurement\n	Boards and Commission Inclusion Initiative
X-ALT-DESC;FMTTYPE=text/html:United Corpus Christi Chamber of Commerce Diversity &amp\; Inclusion Committee&nbsp\;<br />\nFocused on fostering economic development and opportunities to inspire entrepreneurship of small\, diverse emerging businesses through collaboration\, partnerships and leveraging of resources.<br />\n<br />\nPrograms include:\n<ul>\n	<li>Lemonade Day Coastal Bend</li>\n	<li>Supplier Diversity &amp\; Procurement</li>\n	<li>Boards and Commission Inclusion Initiative</li>\n</ul>\n
LOCATION:Chamber Office 602 N. Staples St.\, Suite 150
UID:e.1866.28213
SEQUENCE:3
DTSTAMP:20260424T003650Z
URL:https://chamber.unitedcorpuschristi.org/events/details/diversity-equity-inclusion-dei-committee-02-28-2023-28213
END:VEVENT

END:VCALENDAR
