BEGIN:VCALENDAR
VERSION:2.0
PRODID:-//ChamberMaster//Event Calendar 2.0//EN
METHOD:PUBLISH
X-PUBLISHED-TTL:P3D
REFRESH-INTERVAL:P3D
CALSCALE:GREGORIAN
BEGIN:VEVENT
DTSTART:20221027T223000Z
DTEND:20221028T010000Z
X-MICROSOFT-CDO-ALLDAYEVENT:FALSE
SUMMARY:Dia De Los Muertos Kickoff Fiesta at Garcia Center
DESCRIPTION:Texas A&M University-Corpus Christi is proud to host a Dia de los Muertos Kickoff Fiesta at the Antonio E. Garcia Arts and Education Center\, 2021 Agnes St. on Thursday\, Oct. 27\, from 5:30-8 p.m. The event\, which is free and open to the public\, includes the opening of El Regreso de Las Almas youth art exhibition\, in partnership with K Space\, along with ofrendas/altars created by members of the Garcia Center\, TAMU-CC\, and Del Mar College communities in memory of their loved ones. There will also be refreshments\, food trucks\, musical and dance performances\, a candy giveaway\, and a dedication ceremony for the Garcia Center's new flagpole and mural.
X-ALT-DESC;FMTTYPE=text/html:<span style="color:rgb(40\, 60\, 70)\; font-family:-apple-system\,system-ui\,system-ui\,segoe ui\,helvetica\,arial\,sans-serif\,apple color emoji\,segoe ui emoji\,segoe ui symbol\; font-size:19.8px">Texas A&amp\;M University-Corpus Christi is proud to host a Dia de los Muertos Kickoff Fiesta at the Antonio E. Garcia Arts and Education Center\, 2021 Agnes St. on Thursday\, Oct. 27\, from 5:30-8 p.m. The event\, which is free and open to the public\, includes the opening of El Regreso de Las Almas youth art exhibition\, in partnership with K Space\, along with ofrendas/altars created by members of the Garcia Center\, TAMU-CC\, and Del Mar College communities in memory of their loved ones. There will also be refreshments\, food trucks\, musical and dance performances\, a candy giveaway\, and a dedication ceremony for the Garcia Center&rsquo\;s new flagpole and mural.</span>
LOCATION:Antonio E. Garcia Arts and Education Center
UID:e.1866.27743
SEQUENCE:3
DTSTAMP:20260423T194209Z
URL:https://chamber.unitedcorpuschristi.org/events/details/dia-de-los-muertos-kickoff-fiesta-at-garcia-center-27743
END:VEVENT

END:VCALENDAR
