BEGIN:VCALENDAR
VERSION:2.0
PRODID:-//ChamberMaster//Event Calendar 2.0//EN
METHOD:PUBLISH
X-PUBLISHED-TTL:P3D
REFRESH-INTERVAL:P3D
CALSCALE:GREGORIAN
BEGIN:VEVENT
DTSTART:20230329T150000Z
DTEND:20230329T170000Z
X-MICROSOFT-CDO-ALLDAYEVENT:FALSE
SUMMARY:DBE Certification Workshop
DESCRIPTION:This workshop is to encourage Small\, Minority\, and Women-Owned businesses\n\nto become certified as Disadvantaged Business Enterprise (DBE) firms!\n\n\n\nJOIN US TO LEARN ABOUT\n\n  Benefits of becoming DBE Certified\n\n  Overview of the U.S. Department of Transportation DBE Program\, 49 Code of Federal\n\nRegulations (CFR) Part 26\, Subparts D and E\, Certification Standards and Procedures\n\n  Instructions for completing the DBE Certification Application\n\n  Documents required for submittal\n\n  Upcoming contracting opportunities\n\n\n\nBring your business cards.... get your name out there!\n\n\n\nPresented by\n\nCorpus Christi Regional Transportation Authority (CCRTA)\n\nMember of the Texas Unified Certification Program (TUCP)\n\nin partnership with\n\nDel Mar College APEX Accelerator (formerly PTAC) and the\n\nUnited Corpus Christi Chamber of Commerce.\n\n\n\nThis APEX Accelerator is funded in part through a cooperative agreement with the Department of Defense.
X-ALT-DESC;FMTTYPE=text/html:This workshop is to encourage Small\, Minority\, and Women-Owned businesses<br />\nto become certified as Disadvantaged Business Enterprise (DBE) firms!<br />\n<br />\nJOIN US TO LEARN ABOUT<br />\n&bull\; Benefits of becoming DBE Certified<br />\n&bull\; Overview of the U.S. Department of Transportation DBE Program\, 49 Code of Federal<br />\nRegulations (CFR) Part 26\, Subparts D and E\, Certification Standards and Procedures<br />\n&bull\; Instructions for completing the DBE Certification Application<br />\n&bull\; Documents required for submittal<br />\n&bull\; Upcoming contracting opportunities<br />\n<br />\nBring your business cards.... get your name out there!<br />\n<br />\nPresented by<br />\nCorpus Christi Regional Transportation Authority (CCRTA)<br />\nMember of the Texas&nbsp\;Unified Certification Program (TUCP)<br />\nin partnership with<br />\nDel Mar College APEX Accelerator (formerly PTAC) and the<br />\nUnited&nbsp\;Corpus Christi Chamber of Commerce.<br />\n<br />\nThis APEX Accelerator is funded in part through a cooperative agreement with the Department of Defense.
LOCATION:Del Mar College Center for Economic Development 3902 South Staples\, Corpus Christi\, TX
UID:e.1866.28691
SEQUENCE:3
DTSTAMP:20260424T024008Z
URL:https://chamber.unitedcorpuschristi.org/events/details/dbe-certification-workshop-28691
END:VEVENT

END:VCALENDAR
