BEGIN:VCALENDAR
VERSION:2.0
PRODID:-//ChamberMaster//Event Calendar 2.0//EN
METHOD:PUBLISH
X-PUBLISHED-TTL:P3D
REFRESH-INTERVAL:P3D
CALSCALE:GREGORIAN
BEGIN:VEVENT
DTSTART:20220313T013000Z
DTEND:20220313T033000Z
X-MICROSOFT-CDO-ALLDAYEVENT:FALSE
SUMMARY:Corpus Christi Symphony Orchestra's Gershwin Rachs
DESCRIPTION:The PAC will rock (rach) with the sounds of Gershwin's An American in Paris and Rachmaninoff's Rhapsody on a theme of Paganini\, performed by award-winning pianist\, Mikhail Berestnev.  Our principal cellist\, Susan Sturman will perform two works: Saint-Saens' The Swan and Tchaikovsky's Pezzo Capriccioso.  So get ready to Rach!\n\n_\n\nThe Swan from Carnival of the Animals   C. Saint-Saens\n\nPezzo Capriccioso   P.I. Tchaikovsky\n\nRhapsody on a theme by Pagiani   S. Rachmaninoff\n\nOverture to Girl Crazy   G. Gershwin\n\nAn American in Paris   G. Gershwin
X-ALT-DESC;FMTTYPE=text/html:<p>The PAC will rock (rach) with the sounds of Gershwin&rsquo\;s An American in Paris and Rachmaninoff&rsquo\;s Rhapsody on a theme of Paganini\, performed by award-winning pianist\, Mikhail Berestnev.&nbsp\; Our principal cellist\, Susan Sturman will perform two works: Saint-Saens&rsquo\; The Swan and Tchaikovsky&rsquo\;s Pezzo Capriccioso.&nbsp\; So get ready to Rach!</p>\n\n<p>_</p>\n\n<p>The Swan from Carnival of the Animals &ndash\; C. Saint-Saens<br />\nPezzo Capriccioso &ndash\; P.I. Tchaikovsky<br />\nRhapsody on a theme by Pagiani &ndash\; S. Rachmaninoff<br />\nOverture to Girl Crazy &ndash\; G. Gershwin<br />\nAn American in Paris &ndash\; G. Gershwin</p>\n
LOCATION:Performing Arts Center-Texas A&M University Corpus Christi 6300 Ocean Dr. #5723 Corpus Christi\, Texas 78412
UID:e.1866.27375
SEQUENCE:3
DTSTAMP:20260423T084542Z
URL:https://chamber.unitedcorpuschristi.org/events/details/corpus-christi-symphony-orchestra-s-gershwin-rachs-27375
END:VEVENT

END:VCALENDAR
