BEGIN:VCALENDAR
VERSION:2.0
PRODID:-//ChamberMaster//Event Calendar 2.0//EN
METHOD:PUBLISH
X-PUBLISHED-TTL:P3D
REFRESH-INTERVAL:P3D
CALSCALE:GREGORIAN
BEGIN:VEVENT
DTSTART:20220410T003000Z
DTEND:20220410T023000Z
X-MICROSOFT-CDO-ALLDAYEVENT:FALSE
SUMMARY:Corpus Christi Symphony Orchestra's Beethoven's 9th
DESCRIPTION:It's difficult to perceive how Beethoven could have conceived a work such as the 9th Symphony. There had never been anything like the 9th Symphony. Add to that his growing deafness  there really are miracles and some of them last forever. In honor of those we have lost to Covid\, Mozart's Ave Verum Corpus will be performed and to honor of brave medical personnel\, Florence Price's Adoration. Please join us for a night of joy\, remembrance and honor.\n\n \n\nAve Verum Corpus   W.A. Mozart\n\nAdoration   F. Price\n\nSymphony No. 9 "Ode to Joy"   L.V. Beethoven
X-ALT-DESC;FMTTYPE=text/html:<p>It&rsquo\;s difficult to perceive how Beethoven could have conceived a work such as the 9<span style="font-size:13.5px">th</span>&nbsp\;Symphony. There had never been anything like the 9<span style="font-size:13.5px">th</span>&nbsp\;Symphony. Add to that his growing deafness&hellip\; there really are miracles and some of them last forever. In honor of those we have lost to Covid\, Mozart&rsquo\;s Ave Verum Corpus will be performed and to honor of brave medical personnel\, Florence Price&rsquo\;s Adoration. Please join us for a night of joy\, remembrance and honor.</p>\n\n<p>&ndash\;</p>\n\n<p>Ave Verum Corpus &ndash\; W.A. Mozart<br />\nAdoration &ndash\; F. Price<br />\nSymphony No. 9 &ldquo\;Ode to Joy&rdquo\; &ndash\; L.V. Beethoven</p>\n
LOCATION:Performing Arts Center-Texas A&M University Corpus Christi 6300 Ocean Dr. #5723 Corpus Christi\, Texas 78412
UID:e.1866.27376
SEQUENCE:3
DTSTAMP:20260423T101744Z
URL:https://chamber.unitedcorpuschristi.org/events/details/corpus-christi-symphony-orchestra-s-beethoven-s-9th-27376
END:VEVENT

END:VCALENDAR
