BEGIN:VCALENDAR
VERSION:2.0
PRODID:-//ChamberMaster//Event Calendar 2.0//EN
METHOD:PUBLISH
X-PUBLISHED-TTL:P3D
REFRESH-INTERVAL:P3D
CALSCALE:GREGORIAN
BEGIN:VEVENT
DTSTART:20230104T230000Z
DTEND:20230105T000000Z
X-MICROSOFT-CDO-ALLDAYEVENT:FALSE
SUMMARY:Conquer The Coast Committee Meeting
DESCRIPTION:Conquer the Coast is the premiere cycling event of the south.  The ride continues to be one of the fastest growing cycling events in North America\, attracting thousands of participants and spectators from all over the nation and Mexico.  Not only is the event a statewide draw\, but it is a great opportunity to get your brand recognized by a captive audience through several outlets.\n\n\n\nThis Committee meets to coordinate the planning of this annual event.\n\n\n\nProceeds generated from this event benefit the United Corpus Christi Chamber of Commerce Foundation which supports local programs such as Mano a Mano Scholarship Program\, Bikes for Kids and to help support organizations such as the TAMUCC Islander Athletic Fund. The Islander Athletic Fund supports students at Texas A&M-Corpus Christi. Contributions are applied towards student-athlete scholarships and sport operating budgets and help strengthen our goal of winning champions with integrity.
X-ALT-DESC;FMTTYPE=text/html:Conquer the Coast is the premiere cycling event of the south. &nbsp\;The ride continues to be one of the fastest growing cycling events in North America\, attracting thousands of participants and spectators from all over the nation and Mexico. &nbsp\;Not only is the event a statewide draw\, but it is a great opportunity to get your brand recognized by a captive audience through several outlets.<br />\n<br />\nThis Committee meets to coordinate the planning of this annual event.<br />\n<br />\nProceeds generated from this event benefit the United Corpus Christi Chamber of Commerce Foundation which supports local programs such as Mano a Mano Scholarship Program\, Bikes for Kids and to help support organizations such as the TAMUCC Islander Athletic Fund. The Islander Athletic Fund supports students at Texas A&amp\;M-Corpus Christi. Contributions are applied towards student-athlete scholarships and sport operating budgets and help strengthen our goal of winning champions with integrity.<br />\n
LOCATION:Chamber Office 602 N. Staples St.\, Suite 150
UID:e.1866.28224
SEQUENCE:3
DTSTAMP:20260423T231237Z
URL:https://chamber.unitedcorpuschristi.org/events/details/conquer-the-coast-committee-meeting-28224
END:VEVENT

END:VCALENDAR
