BEGIN:VCALENDAR
VERSION:2.0
PRODID:-//ChamberMaster//Event Calendar 2.0//EN
METHOD:PUBLISH
X-PUBLISHED-TTL:P3D
REFRESH-INTERVAL:P3D
CALSCALE:GREGORIAN
BEGIN:VEVENT
DTSTART:20221026T220000Z
DTEND:20221027T000000Z
X-MICROSOFT-CDO-ALLDAYEVENT:FALSE
SUMMARY:Community Loan Repayment Workshop
DESCRIPTION:The COVID-19 emergency relief for federal student loans ends Dec. 31\, 2022. In advance of that deadline\, Texas A&M University-Corpus Christi is hosting a Community Loan Repayment Workshop on Wednesday\, October 26. A presentation will be held at the top of each hour from 2-5 p.m. in Bay Hall\, room 201\; a workshop with one-on-one assistance will be held from 5-7 p.m. in Corpus Christi Hall\, computer lab 204. The Loan Repayment Workshop\, which is open to all community members and students\, will include experts to assist with loan consolidation\, income-based repayment plans\, public student loan forgiveness\, and the teacher loan forgiveness processes.
X-ALT-DESC;FMTTYPE=text/html:<span style="color:rgb(40\, 60\, 70)\; font-family:-apple-system\,system-ui\,system-ui\,segoe ui\,helvetica\,arial\,sans-serif\,apple color emoji\,segoe ui emoji\,segoe ui symbol\; font-size:19.8px">The COVID-19 emergency relief for federal student loans ends Dec. 31\, 2022. In advance of that deadline\, Texas A&amp\;M University-Corpus Christi is hosting a Community Loan Repayment Workshop on Wednesday\, October 26. A presentation will be held at the top of each hour from 2-5 p.m. in Bay Hall\, room 201\; a workshop with one-on-one assistance will be held from 5-7 p.m. in Corpus Christi Hall\, computer lab 204. The Loan Repayment Workshop\, which is open to all community members and students\, will include experts to assist with loan consolidation\, income-based repayment plans\, public student loan forgiveness\, and the teacher loan forgiveness processes.</span>
LOCATION:Texas A&M University-Corpus Christi\, Corpus Christi Hall room 204
UID:e.1866.27744
SEQUENCE:3
DTSTAMP:20260423T192039Z
URL:https://chamber.unitedcorpuschristi.org/events/details/community-loan-repayment-workshop-27744
END:VEVENT

END:VCALENDAR
