BEGIN:VCALENDAR
VERSION:2.0
PRODID:-//ChamberMaster//Event Calendar 2.0//EN
METHOD:PUBLISH
X-PUBLISHED-TTL:P3D
REFRESH-INTERVAL:P3D
CALSCALE:GREGORIAN
BEGIN:VEVENT
DTSTART:20230113T133000Z
DTEND:20230113T150000Z
X-MICROSOFT-CDO-ALLDAYEVENT:FALSE
SUMMARY:Coffee and Blessings
DESCRIPTION:You're invited! Join us as we kick off the new year! Drive-thru Mirador and get a coffee\, a blessing & a healthy to-go breakfast to start your day and year right!\n\nFriday\, January 13\, 2023 from 7:30 to 9:00 a.m.\n\n5857 Timbergate Dr.
X-ALT-DESC;FMTTYPE=text/html:You&#39\;re invited! Join us as we kick off the new year! Drive-thru Mirador and get a coffee\, a blessing &amp\; a healthy to-go breakfast to start your day and year right!<br />\nFriday\, January 13\, 2023 from 7:30 to 9:00 a.m.<br />\n5857 Timbergate Dr.
LOCATION:Mirador Retirement Community 5857 Timbergate Dr.\, Corpus Christi\, TX 78414
UID:e.1866.28370
SEQUENCE:3
DTSTAMP:20260423T231159Z
URL:https://chamber.unitedcorpuschristi.org/events/details/coffee-and-blessings-28370
END:VEVENT

END:VCALENDAR
