BEGIN:VCALENDAR
VERSION:2.0
PRODID:-//ChamberMaster//Event Calendar 2.0//EN
METHOD:PUBLISH
X-PUBLISHED-TTL:P3D
REFRESH-INTERVAL:P3D
CALSCALE:GREGORIAN
BEGIN:VEVENT
DTSTART:20220920T170000Z
DTEND:20220920T200000Z
X-MICROSOFT-CDO-ALLDAYEVENT:FALSE
SUMMARY:Coastal Bend First Career Fair
DESCRIPTION:The Career & Professional Development Center at Texas A&M University-Corpus Christi (TAMU-CC) joins forces with the Corpus Christi Regional Economic Development Corporation and the United Corpus Christi Chamber of Commerce to host the Coastal Bend First Career Fair to provide local employers of the Coastal Bend region with a primary position in hiring students of TAMU-CC. This recruiting event is exclusively open to local employers of all industry sectors and is a great avenue to introduce your organization to prospective talents\, connect with our students\, and recruit your future workforce.
X-ALT-DESC;FMTTYPE=text/html:<span style="color:rgb(50\, 49\, 48)\; font-family:segoe ui\,sans-serif\; font-size:14.6667px">The Career &amp\; Professional Development Center at Texas A&amp\;M University-Corpus Christi (TAMU-CC) joins forces with the Corpus Christi Regional Economic Development Corporation and the United Corpus Christi Chamber of Commerce to host the Coastal Bend First Career Fair to provide local employers of the Coastal Bend region with a primary position in hiring students of TAMU-CC. This recruiting event is exclusively open to local employers of all industry sectors and is a great avenue to introduce your organization to prospective talents\, connect with our students\, and recruit your future workforce.&nbsp\;</span>
LOCATION:Texas A&M University-Corpus Christi
UID:e.1866.27721
SEQUENCE:3
DTSTAMP:20260423T192208Z
URL:https://chamber.unitedcorpuschristi.org/events/details/coastal-bend-first-career-fair-27721
END:VEVENT

END:VCALENDAR
