BEGIN:VCALENDAR
VERSION:2.0
PRODID:-//ChamberMaster//Event Calendar 2.0//EN
METHOD:PUBLISH
X-PUBLISHED-TTL:P3D
REFRESH-INTERVAL:P3D
CALSCALE:GREGORIAN
BEGIN:VEVENT
DTSTART;VALUE=DATE:20220404
DTEND;VALUE=DATE:20220407
TRANSP:TRANSPARENT
X-MICROSOFT-CDO-ALLDAYEVENT:TRUE
SUMMARY:CB to DC 2022 Advocacy Trip
DESCRIPTION:Join the Chamber delegation in Washington\, D.C. to voice your business needs\, collaborate with the Coastal Bend's business leaders and meet with the nation's top legislators and policy officials.\n\nAttendees will have the unique opportunity to:\n\n\n	Participate in high-level meetings with U.S. administration officials and agencies\n	Gain access to our country's key decision makers and advocate for local and regional issues important to the Coastal Bend\n	Network and make invaluable connections with elected officials on the local\, state and federal level\, as well as other community members\n\n\nAccommodations: \n\nA block of rooms has been reserved at the Hampton Inn & Suites Washington\, D.C. - Navy Yard at a rate of $189 per night plus tax. Please follow the link to reserve your room:  https://www.hilton.com/en/book/reservation/rooms/?ctyhocn=WASNYHX&arrivalDate=2022-04-04&departureDate=2022-04-06&room1NumAdults=1&cid=OM%2CWW%2CHILTONLINK%2CEN%2CDirectLink\n\nWelcome Reception with Congressman Cloud Sponsor:  Cheniere\n\nCB to DC Breakfast Briefing Sponsor: City of Corpus Christi\n\nTexas Delegation Reception Sponsor: Valero Bill Greehey Refineries
X-ALT-DESC;FMTTYPE=text/html:<p dir="ltr" style="line-height: 1.68\; margin-top: 0pt\; margin-bottom: 0pt\; padding: 0pt 0pt 15pt\;"><span id="docs-internal-guid-e5a3cb24-7fff-3276-ce35-86c73508d20b"><span style="font-size: 10.5pt\; font-family: Verdana\; background-color: transparent\; font-variant-numeric: normal\; font-variant-east-asian: normal\; vertical-align: baseline\; white-space: pre-wrap\;">Join the Chamber delegation in Washington\, D.C. to voice your business needs\, collaborate with the Coastal Bend&#39\;s business leaders and meet with the nation&#39\;s top legislators and policy officials.</span></span></p>\n\n<p dir="ltr" style="line-height: 1.68\; margin-top: 0pt\; margin-bottom: 15pt\;"><span id="docs-internal-guid-e5a3cb24-7fff-3276-ce35-86c73508d20b"><span style="font-size: 10.5pt\; font-family: Verdana\; background-color: transparent\; font-variant-numeric: normal\; font-variant-east-asian: normal\; vertical-align: baseline\; white-space: pre-wrap\;">Attendees will have the unique opportunity to:</span></span></p>\n\n<ul dir="ltr">\n	<li style="line-height: 1.68\; margin-top: 0pt\; margin-bottom: 15pt\;"><span><span style="font-size: 10.5pt\; font-family: Verdana\; background-color: transparent\; font-weight: 700\; font-variant-numeric: normal\; font-variant-east-asian: normal\; vertical-align: baseline\; white-space: pre-wrap\;">Participate in high-level meetings</span><span style="font-size: 10.5pt\; font-family: Verdana\; background-color: transparent\; font-variant-numeric: normal\; font-variant-east-asian: normal\; vertical-align: baseline\; white-space: pre-wrap\;"> with U.S. administration officials and agencies</span></span></li>\n	<li style="line-height: 1.68\; margin-top: 0pt\; margin-bottom: 15pt\;"><span><span style="font-size: 10.5pt\; font-family: Verdana\; background-color: transparent\; font-weight: 700\; font-variant-numeric: normal\; font-variant-east-asian: normal\; vertical-align: baseline\; white-space: pre-wrap\;">Gain access</span><span style="font-size: 10.5pt\; font-family: Verdana\; background-color: transparent\; font-variant-numeric: normal\; font-variant-east-asian: normal\; vertical-align: baseline\; white-space: pre-wrap\;"> to our country&rsquo\;s key decision makers and advocate for local and regional issues important to the Coastal Bend</span></span></li>\n	<li style="line-height: 1.68\; margin-top: 0pt\; margin-bottom: 15pt\;"><span id="docs-internal-guid-e5a3cb24-7fff-3276-ce35-86c73508d20b"><span style="font-size: 10.5pt\; font-family: Verdana\; background-color: transparent\; font-weight: 700\; font-variant-numeric: normal\; font-variant-east-asian: normal\; vertical-align: baseline\; white-space: pre-wrap\;">Network and make invaluable connections</span><span style="font-size: 10.5pt\; font-family: Verdana\; background-color: transparent\; font-variant-numeric: normal\; font-variant-east-asian: normal\; vertical-align: baseline\; white-space: pre-wrap\;"> with elected officials on the local\, state and federal level\, as well as other community members</span></span></li>\n</ul>\n\n<p dir="ltr" style="line-height: 2.52\; margin-top: 0pt\; margin-bottom: 0pt\; padding: 0pt 0pt 15pt\;"><span id="docs-internal-guid-e5a3cb24-7fff-3276-ce35-86c73508d20b"><span style="font-size: 10.5pt\; font-family: Verdana\; background-color: transparent\; font-weight: 700\; font-variant-numeric: normal\; font-variant-east-asian: normal\; vertical-align: baseline\; white-space: pre-wrap\;">Accommodations:&nbsp\;</span></span><br />\n<span id="docs-internal-guid-e5a3cb24-7fff-3276-ce35-86c73508d20b"><span style="font-size: 10.5pt\; font-family: Verdana\; color: rgb(0\, 0\, 0)\; background-color: transparent\; font-variant-numeric: normal\; font-variant-east-asian: normal\; vertical-align: baseline\; white-space: pre-wrap\;">A block of rooms has been reserved at the Hampton Inn &amp\; Suites Washington\, D.C. - Navy Yard at a rate of $189 per night plus tax. Please follow the link to reserve your room:&nbsp\; </span></span><a href="https://www.hilton.com/en/book/reservation/rooms/?ctyhocn=WASNYHX&amp\;arrivalDate=2022-04-04&amp\;departureDate=2022-04-06&amp\;room1NumAdults=1&amp\;cid=OM%2CWW%2CHILTONLINK%2CEN%2CDirectLink">https://www.hilton.com/en/book/reservation/rooms/?ctyhocn=WASNYHX&amp\;arrivalDate=2022-04-04&amp\;departureDate=2022-04-06&amp\;room1NumAdults=1&amp\;cid=OM%2CWW%2CHILTONLINK%2CEN%2CDirectLink</a><br />\n<span id="docs-internal-guid-e5a3cb24-7fff-3276-ce35-86c73508d20b"><span style="font-size: 10.5pt\; font-family: Verdana\; background-color: transparent\; font-weight: 700\; font-variant-numeric: normal\; font-variant-east-asian: normal\; text-decoration-line: underline\; text-decoration-skip-ink: none\; vertical-align: baseline\; white-space: pre-wrap\;">Welcome Reception with Congressman Cloud Sponsor:</span><span style="font-size: 10.5pt\; font-family: Verdana\; background-color: transparent\; font-variant-numeric: normal\; font-variant-east-asian: normal\; vertical-align: baseline\; white-space: pre-wrap\;">&nbsp\; Cheniere</span></span></p>\n\n<p dir="ltr" style="line-height: 2.52\; margin-top: 0pt\; margin-bottom: 0pt\; padding: 0pt 0pt 15pt\;"><span id="docs-internal-guid-e5a3cb24-7fff-3276-ce35-86c73508d20b"><span style="font-size: 10.5pt\; font-family: Verdana\; background-color: transparent\; font-weight: 700\; font-variant-numeric: normal\; font-variant-east-asian: normal\; text-decoration-line: underline\; text-decoration-skip-ink: none\; vertical-align: baseline\; white-space: pre-wrap\;">CB to DC Breakfast Briefing Sponsor</span><span style="font-size: 10.5pt\; font-family: Verdana\; background-color: transparent\; font-variant-numeric: normal\; font-variant-east-asian: normal\; vertical-align: baseline\; white-space: pre-wrap\;">: City of Corpus Christi</span></span></p>\n\n<p dir="ltr" style="line-height: 2.52\; margin-top: 0pt\; margin-bottom: 15pt\;"><span id="docs-internal-guid-e5a3cb24-7fff-3276-ce35-86c73508d20b"><span style="font-size: 10.5pt\; font-family: Verdana\; background-color: transparent\; font-weight: 700\; font-variant-numeric: normal\; font-variant-east-asian: normal\; text-decoration-line: underline\; text-decoration-skip-ink: none\; vertical-align: baseline\; white-space: pre-wrap\;">Texas Delegation Reception Sponsor</span><span style="font-size: 10.5pt\; font-family: Verdana\; background-color: transparent\; font-variant-numeric: normal\; font-variant-east-asian: normal\; vertical-align: baseline\; white-space: pre-wrap\;">: Valero Bill Greehey Refineries</span></span></p>\n\n<div>&nbsp\;</div>\n
LOCATION:Washington\, D.C.
UID:e.1866.27410
SEQUENCE:3
DTSTAMP:20260423T102125Z
URL:https://chamber.unitedcorpuschristi.org/events/details/cb-to-dc-2022-advocacy-trip-27410
END:VEVENT

END:VCALENDAR
