BEGIN:VCALENDAR
VERSION:2.0
PRODID:-//ChamberMaster//Event Calendar 2.0//EN
METHOD:PUBLISH
X-PUBLISHED-TTL:P3D
REFRESH-INTERVAL:P3D
CALSCALE:GREGORIAN
BEGIN:VEVENT
DTSTART:20221020T220000Z
DTEND:20221021T000000Z
X-MICROSOFT-CDO-ALLDAYEVENT:FALSE
SUMMARY:Business off the Clock hosted by Bella Luna Downtown
DESCRIPTION:Unwind in a casual\, after work environment and network with your fellow chamber members!
X-ALT-DESC;FMTTYPE=text/html:<span id="docs-internal-guid-bec28dc3-049e-9776-5fb6-f00ab0448caf"><span style="font-family: Arial\; font-size: 14.66px\; vertical-align: baseline\; white-space: pre-wrap\; background-color: rgb(255\, 255\, 255)\;">Unwind in a casual\, after work environment and network with your fellow chamber members!</span></span>
LOCATION:429 Schatzell St. Corpus Christi\, TX 78401
UID:e.1866.27734
SEQUENCE:3
DTSTAMP:20260423T204412Z
URL:https://chamber.unitedcorpuschristi.org/events/details/business-off-the-clock-hosted-by-bella-luna-downtown-27734
END:VEVENT

END:VCALENDAR
