BEGIN:VCALENDAR
VERSION:2.0
PRODID:-//ChamberMaster//Event Calendar 2.0//EN
METHOD:PUBLISH
X-PUBLISHED-TTL:P3D
REFRESH-INTERVAL:P3D
CALSCALE:GREGORIAN
BEGIN:VEVENT
DTSTART:20220921T123000Z
DTEND:20220921T133000Z
X-MICROSOFT-CDO-ALLDAYEVENT:FALSE
SUMMARY:Buenos Dias hosted by Roland Barrera Insurance
DESCRIPTION:Join the United Corpus Christi Chamber of Commerce for Buenos Dias hosted by Roland Barrera Insurance and start your day with Coffee\, Conversation\, and New Connections!
X-ALT-DESC;FMTTYPE=text/html:Join the United Corpus Christi Chamber of Commerce for Buenos Dias hosted by Roland Barrera Insurance and start your day with Coffee\, Conversation\, and New Connections!<br />\n&nbsp\;
LOCATION:Roland Barrera Insurance 807 N. Upper Broadway\, Suite 102 Corpus Christi\, TX
UID:e.1866.27712
SEQUENCE:3
DTSTAMP:20260423T180402Z
URL:https://chamber.unitedcorpuschristi.org/events/details/buenos-dias-hosted-by-roland-barrera-insurance-27712
END:VEVENT

END:VCALENDAR
