BEGIN:VCALENDAR
VERSION:2.0
PRODID:-//ChamberMaster//Event Calendar 2.0//EN
METHOD:PUBLISH
X-PUBLISHED-TTL:P3D
REFRESH-INTERVAL:P3D
CALSCALE:GREGORIAN
BEGIN:VEVENT
DTSTART:20230324T003000Z
DTEND:20230324T020000Z
X-MICROSOFT-CDO-ALLDAYEVENT:FALSE
SUMMARY:Bravo Series: The Adventures of Prince Achmed and Invoke
DESCRIPTION:The Performing Arts Center at Texas A&M University-Corpus Christi presents The Adventures of Prince Achmed and Invoke as the final show in the 2022-2023 Furgason BRAVO! Concert Series. The show will be held at 7:30 p.m. on Thursday\, March 23\, with a pre-concert Q&A. The Adventures of Prince Achmed\, a film by silhouette animation pioneer Lotte Reiniger\, will be featured on the PAC's new video screen while original music is performed live by Invoke. Invoke\, a multi-instrumental band\, encompass traditions from across America\, including bluegrass\, Appalachian fiddle tunes\, jazz\, and minimalism.
X-ALT-DESC;FMTTYPE=text/html:<span style="color:rgb(40\, 60\, 70)\; font-family:-apple-system\,system-ui\,system-ui\,segoe ui\,helvetica\,arial\,sans-serif\,apple color emoji\,segoe ui emoji\,segoe ui symbol\; font-size:19.8px">The Performing Arts Center at Texas A&amp\;M University-Corpus Christi presents The Adventures of Prince Achmed and Invoke as the final show in the 2022-2023 Furgason BRAVO! Concert Series. The show will be held at 7:30 p.m. on Thursday\, March 23\, with a pre-concert Q&amp\;A. The Adventures of Prince Achmed\, a film by silhouette animation pioneer Lotte Reiniger\, will be featured on the PAC&rsquo\;s new video screen while original music is performed live by Invoke. Invoke\, a multi-instrumental band\, encompass traditions from across America\, including bluegrass\, Appalachian fiddle tunes\, jazz\, and minimalism.</span>
LOCATION:Texas A&M University-Corpus Christi Performing Arts Center
UID:e.1866.28514
SEQUENCE:3
DTSTAMP:20260424T030616Z
URL:https://chamber.unitedcorpuschristi.org/events/details/bravo-series-the-adventures-of-prince-achmed-and-invoke-28514
END:VEVENT

END:VCALENDAR
