BEGIN:VCALENDAR
VERSION:2.0
PRODID:-//ChamberMaster//Event Calendar 2.0//EN
METHOD:PUBLISH
X-PUBLISHED-TTL:P3D
REFRESH-INTERVAL:P3D
CALSCALE:GREGORIAN
BEGIN:VEVENT
DTSTART:20221022T003000Z
DTEND:20221022T023000Z
X-MICROSOFT-CDO-ALLDAYEVENT:FALSE
SUMMARY:Bravo Series: Empire Wild and Ariel Horowitz
DESCRIPTION:The Performing Arts Center at Texas A&M University-Corpus Christi presents Empire Wild and Ariel Horowitz as the first show in the 2022-2023 Furgason Bravo Concert Series. The show will be held at 7:30 p.m. on Friday\, Oct. 21. Horowitz\, a concert violinist who has won the Lewis Prize\, will perform a program of repertoire selections and original works with Empire Wild\, a New York City-based genre-bending crossover trio that consists of cellists Ken Kubota and Mitch Lyon\, and introducing vocalist/pianist Holly Bean. Ticket prices are $25 for general admission and $20 for seniors. TAMU-CC student tickets are $7 (with valid SandDollar$ ID). 15% discount on the purchase of 3 or more BRAVO performances together. Purchase tickets for the full BRAVO series at tamucc.tix.com or call 361.825.ARTS starting Tuesday\, Sept. 6\, at 9 a.m. For more information\, visit pac.tamucc.edu.
X-ALT-DESC;FMTTYPE=text/html:<span style="color:rgb(40\, 60\, 70)\; font-family:-apple-system\,system-ui\,system-ui\,segoe ui\,helvetica\,arial\,sans-serif\,apple color emoji\,segoe ui emoji\,segoe ui symbol\; font-size:19.8px">The Performing Arts Center at Texas A&amp\;M University-Corpus Christi presents Empire Wild and Ariel Horowitz as the first show in the 2022-2023 Furgason Bravo Concert Series. The show will be held at 7:30 p.m. on Friday\, Oct. 21. Horowitz\, a concert violinist who has won the Lewis Prize\, will perform a program of repertoire selections and original works with Empire Wild\, a New York City-based genre-bending crossover trio that consists of cellists Ken Kubota and Mitch Lyon\, and introducing vocalist/pianist Holly Bean. Ticket prices are $25 for general admission and $20 for seniors. TAMU-CC student tickets are $7 (with valid SandDollar$ ID). 15% discount on the purchase of 3 or more BRAVO performances together. Purchase tickets for the full BRAVO series at&nbsp\;</span><a href="https://nam12.safelinks.protection.outlook.com/?url=http%3A%2F%2Ftamucc.tix.com%2F&amp\;data=02%7C01%7Cjesparza3%40islander.tamucc.edu%7C879a719e83264763d8ff08d849de3249%7C34cbfaf167a64781a9ca514eb2550b66%7C0%7C0%7C637340565957083940&amp\;sdata=zqT%2Fs0srHAqtQvUvZmOp5WoRYPs1g2SewIVhrrvjV4I%3D&amp\;reserved=0" rel="noreferrer" style="box-sizing: border-box\; background-image: initial\; background-position: initial\; background-size: initial\; background-repeat: initial\; background-attachment: initial\; background-origin: initial\; background-clip: initial\; color: var(--color-blue)\; font-family: -apple-system\, system-ui\, system-ui\, &quot\;Segoe UI&quot\;\, Helvetica\, Arial\, sans-serif\, &quot\;Apple Color Emoji&quot\;\, &quot\;Segoe UI Emoji&quot\;\, &quot\;Segoe UI Symbol&quot\;\; font-size: 19.8px\;" target="_blank">tamucc.tix.com</a><span style="color:rgb(40\, 60\, 70)\; font-family:-apple-system\,system-ui\,system-ui\,segoe ui\,helvetica\,arial\,sans-serif\,apple color emoji\,segoe ui emoji\,segoe ui symbol\; font-size:19.8px">&nbsp\;or call 361.825.ARTS starting Tuesday\, Sept. 6\, at 9 a.m. For more information\, visit&nbsp\;</span><a href="https://pac.tamucc.edu/" rel="noreferrer" style="box-sizing: border-box\; background-image: initial\; background-position: initial\; background-size: initial\; background-repeat: initial\; background-attachment: initial\; background-origin: initial\; background-clip: initial\; color: var(--color-blue)\; font-family: -apple-system\, system-ui\, system-ui\, &quot\;Segoe UI&quot\;\, Helvetica\, Arial\, sans-serif\, &quot\;Apple Color Emoji&quot\;\, &quot\;Segoe UI Emoji&quot\;\, &quot\;Segoe UI Symbol&quot\;\; font-size: 19.8px\;" target="_blank">pac.tamucc.edu</a><span style="color:rgb(40\, 60\, 70)\; font-family:-apple-system\,system-ui\,system-ui\,segoe ui\,helvetica\,arial\,sans-serif\,apple color emoji\,segoe ui emoji\,segoe ui symbol\; font-size:19.8px">.</span>
LOCATION:Texas A&M University-Corpus Christi Performing Arts Center
UID:e.1866.27728
SEQUENCE:3
DTSTAMP:20260423T193007Z
URL:https://chamber.unitedcorpuschristi.org/events/details/bravo-series-empire-wild-and-ariel-horowitz-27728
END:VEVENT

END:VCALENDAR
