BEGIN:VCALENDAR
VERSION:2.0
PRODID:-//ChamberMaster//Event Calendar 2.0//EN
METHOD:PUBLISH
X-PUBLISHED-TTL:P3D
REFRESH-INTERVAL:P3D
CALSCALE:GREGORIAN
BEGIN:VEVENT
DTSTART:20230128T000000Z
DTEND:20230128T040000Z
X-MICROSOFT-CDO-ALLDAYEVENT:FALSE
SUMMARY:Boots & Bling Ball
DESCRIPTION:Join us for the evening and in the fight to end child trafficking!\n\nThis year it's at the Ortiz Center! The Corpus Christi Mustangs are providing their amazing barbeque for dinner! Five Card Draw is back for more boot scoot'in fun!\n\nJoin us in 2023 for an evening to celebrate all that has been done to combat the issue of child sex trafficking and restore those who have been victimized by it.\n\nThere will be live entertainment\, silent & live auctions\, plenty of fun and exciting activities\, special guests\, live music\, and an opportunity for you to make difference.\n\nSponsorships and Tickets are available now! https://newliferefugeministries.org/events/\n\n**If you're wondering about the attire  it's Boots and Bling! It's Texas Chic.
X-ALT-DESC;FMTTYPE=text/html:<div>Join us for the evening and in the fight to end child trafficking!</div>\n\n<div>This year it&#39\;s at the Ortiz Center! The Corpus Christi Mustangs are providing their amazing barbeque for dinner! Five Card Draw is back for more boot scoot&#39\;in fun!</div>\n\n<div>Join us in 2023 for an evening to celebrate all that has been done to combat the issue of child sex trafficking and restore those who have been victimized by it.</div>\n\n<div>There will be live entertainment\, silent &amp\; live auctions\, plenty of fun and exciting activities\, special guests\, live music\, and an opportunity for you to make difference.</div>\n\n<div>Sponsorships and Tickets are available now!&nbsp\;<a class="x1i10hfl xjbqb8w x6umtig x1b1mbwd xaqea5y xav7gou x9f619 x1ypdohk xt0psk2 xe8uvvx xdj266r x11i5rnm xat24cr x1mh8g0r xexx8yu x4uap5 x18d9i69 xkhd6sd x16tdsg8 x1hl2dhg xggy1nq x1a2a7pz xt0b8zv x1fey0fg" href="https://newliferefugeministries.org/events/?fbclid=IwAR1voRVurceS13sQR6OI49Jw95aIwsHC2pIACB0NvXmWMigWfO8h69ZCkyY" rel="nofollow noopener" style="cursor: pointer\; text-decoration-line: none\; margin: 0px\; text-align: inherit\; padding: 0px\; outline: none\; border-width: 0px\; border-style: initial\; border-color: initial\; -webkit-tap-highlight-color: transparent\; box-sizing: border-box\; list-style: none\; touch-action: manipulation\; background-color: transparent\; display: inline\; font-family: inherit\;" tabindex="0" target="_blank">https://newliferefugeministries.org/events/</a></div>\n\n<div>**If you&rsquo\;re wondering about the attire&hellip\; it&rsquo\;s Boots&hellip\;and Bling! It&rsquo\;s Texas Chic.</div>\n\n<div>&nbsp\;</div>\n
LOCATION:Ortiz Center - Corpus Christi
UID:e.1866.28517
SEQUENCE:3
DTSTAMP:20260423T231200Z
URL:https://chamber.unitedcorpuschristi.org/events/details/boots-bling-ball-28517
END:VEVENT

END:VCALENDAR
