BEGIN:VCALENDAR
VERSION:2.0
PRODID:-//ChamberMaster//Event Calendar 2.0//EN
METHOD:PUBLISH
X-PUBLISHED-TTL:P3D
REFRESH-INTERVAL:P3D
CALSCALE:GREGORIAN
BEGIN:VEVENT
DTSTART:20220520T180000Z
DTEND:20220520T230000Z
X-MICROSOFT-CDO-ALLDAYEVENT:FALSE
SUMMARY:BACALA Clay Shoot
DESCRIPTION:About The Event\n\nAnnual fundraiser to help support the mission of Bay Area Citizens Against Lawsuit Abuse to educate the public and the media on the costs and effects of lawsuit abuse that is alive and well in Texas   and that all Texans are paying the price.\n\n\n\n\nTo secure your team or sponsorship by credit card\, please click HERE. For any questions\, please contact bacala@interconnect.net.\n\nPRIZES\n\n1st place team will be awarded Sig Sauer P365 MS pistols and 2nd place teams will be awarded Glock 17 Gen 5 pistols for each team member. Special trophy to be awarded to Last Place. \n\nMULLIGANS\n\nMulligans will be available for purchase at registration. $20 per pair. Max 3 pair per shooter.\n\nRAFFLE\n\nOver $10\,000 in raffle items!\n\nREGISTRATION DEADLINE: MAY 13\n\nTournament rules and regulations are subject to change without notification. Proceeds benefit BACALA initiatives and programs.\n\nRAIN-OUT POLICY\n\nThe event will go on rain or shine!\n\nCCGC has ammunition for sale in most gauges however it is recommended that shooters plan on bringing their own ammunition.  Shot sizes are limited to 7   or 8 shot only for safety.
X-ALT-DESC;FMTTYPE=text/html:<h2>About The Event</h2>\n\n<h4>Annual fundraiser to help support the mission of Bay Area Citizens Against Lawsuit Abuse to&nbsp\;educate the public and the media on the costs and effects of lawsuit abuse that is alive and well in Texas &mdash\; and that all Texans are paying the price.</h4>\n\n<div style="background:transparent\; border:0px\; padding:0px">\n<div style="background:transparent\; border:0px\; padding:0px">\n<div style="background:transparent\; border:0px\; padding:0px">\n<p>To secure your team or sponsorship by credit card\, please click <a href="https://www.bacala.net/events/bacala-clay-shoot">HERE</a>. For any questions\, please contact bacala@interconnect.net.</p>\n\n<p><strong style="background-color:transparent">PRIZES</strong><br />\n<span style="background-color:transparent">1st place team will be awarded Sig Sauer P365 MS pistols and 2nd place teams will be awarded Glock 17 Gen 5 pistols for each team member. Special trophy to be awarded to Last Place.&nbsp\;</span></p>\n\n<p><strong style="background-color:transparent">MULLIGANS</strong><br />\n<span style="background-color:transparent">Mulligans will be available for purchase at registration. $20 per pair. Max 3 pair per shooter.</span></p>\n\n<p><strong style="background-color:transparent">RAFFLE</strong><br />\n<span style="background-color:transparent">Over $10\,000 in raffle items!</span></p>\n\n<p><strong style="background-color:transparent">REGISTRATION DEADLINE: MAY 13</strong><br />\n<span style="background-color:transparent">Tournament rules and regulations are subject to change without notification. Proceeds benefit BACALA initiatives and programs.</span></p>\n\n<p><strong style="background-color:transparent">RAIN-OUT POLICY</strong><br />\n<span style="background-color:transparent">The event will go on rain or shine!</span></p>\n\n<p><span style="background-color:transparent">CCGC has ammunition for sale in most gauges however it is recommended that shooters plan on bringing their own ammunition. &nbsp\;Shot sizes are limited to 7 &frac12\; or 8 shot only for safety.</span></p>\n</div>\n</div>\n</div>\n
LOCATION:Corpus Christi Gun Club
UID:e.1866.27454
SEQUENCE:3
DTSTAMP:20260423T115432Z
URL:https://chamber.unitedcorpuschristi.org/events/details/bacala-clay-shoot-27454
END:VEVENT

END:VCALENDAR
