BEGIN:VCALENDAR
VERSION:2.0
PRODID:-//ChamberMaster//Event Calendar 2.0//EN
METHOD:PUBLISH
X-PUBLISHED-TTL:P3D
REFRESH-INTERVAL:P3D
CALSCALE:GREGORIAN
BEGIN:VEVENT
DTSTART:20221013T000000Z
DTEND:20221013T020000Z
X-MICROSOFT-CDO-ALLDAYEVENT:FALSE
SUMMARY:Act of God Film Screening plus Q&A
DESCRIPTION:In collaboration with the Texas A&M University-Corpus Christi Office of Disability Services\, Islander Cultural Alliance\, and the TAMU-CC Communications Department\, the Performing Arts Center is presenting Act of God\, a short film by Spencer Cook and Parker Smith\, based in Austin. The free showing will be held on Wednesday\, October 12. Door open at 6 p.m. with a reception\, the film begins at 7 p.m.\, and a Q&A with Spencer Cook starts at 7:30 p.m. There will be a dessert reception after the Q&A. Act of God has won numerous film festival awards and is the story of Spencer\, who is disabled and has spent his entire life in a wheelchair\, and his caretaker\, Parker. This is a free event\; no ticket is needed. Learn more at https://www.tamucc.edu/performing-arts-center/event-information/index.php.
X-ALT-DESC;FMTTYPE=text/html:<span style="color:rgb(40\, 60\, 70)\; font-family:-apple-system\,system-ui\,system-ui\,segoe ui\,helvetica\,arial\,sans-serif\,apple color emoji\,segoe ui emoji\,segoe ui symbol\; font-size:19.8px">In collaboration with the Texas A&amp\;M University-Corpus Christi Office of Disability Services\, Islander Cultural Alliance\, and the TAMU-CC Communications Department\, the Performing Arts Center is presenting&nbsp\;</span><a href="https://www.actofgodfilm.com/" rel="noreferrer" style="box-sizing: border-box\; background-image: initial\; background-position: initial\; background-size: initial\; background-repeat: initial\; background-attachment: initial\; background-origin: initial\; background-clip: initial\; color: var(--color-blue)\; font-family: -apple-system\, system-ui\, system-ui\, &quot\;Segoe UI&quot\;\, Helvetica\, Arial\, sans-serif\, &quot\;Apple Color Emoji&quot\;\, &quot\;Segoe UI Emoji&quot\;\, &quot\;Segoe UI Symbol&quot\;\; font-size: 19.8px\;" target="_blank">Act of God</a><span style="color:rgb(40\, 60\, 70)\; font-family:-apple-system\,system-ui\,system-ui\,segoe ui\,helvetica\,arial\,sans-serif\,apple color emoji\,segoe ui emoji\,segoe ui symbol\; font-size:19.8px">\, a short film by Spencer Cook and Parker Smith\, based in Austin. The free showing will be held on Wednesday\, October 12. Door open at 6 p.m. with a reception\, the film begins at 7 p.m.\, and a Q&amp\;A with Spencer Cook starts at 7:30 p.m. There will be a dessert reception after the Q&amp\;A. Act of God has won numerous film festival awards and is the story of Spencer\, who is disabled and has spent his entire life in a wheelchair\, and his caretaker\, Parker. This is a free event\; no ticket is needed. Learn more at&nbsp\;</span><a href="https://www.tamucc.edu/performing-arts-center/event-information/index.php" rel="noreferrer" style="box-sizing: border-box\; background-image: initial\; background-position: initial\; background-size: initial\; background-repeat: initial\; background-attachment: initial\; background-origin: initial\; background-clip: initial\; color: var(--color-blue)\; font-family: -apple-system\, system-ui\, system-ui\, &quot\;Segoe UI&quot\;\, Helvetica\, Arial\, sans-serif\, &quot\;Apple Color Emoji&quot\;\, &quot\;Segoe UI Emoji&quot\;\, &quot\;Segoe UI Symbol&quot\;\; font-size: 19.8px\;" target="_blank">https://www.tamucc.edu/performing-arts-center/event-information/index.php</a><span style="color:rgb(40\, 60\, 70)\; font-family:-apple-system\,system-ui\,system-ui\,segoe ui\,helvetica\,arial\,sans-serif\,apple color emoji\,segoe ui emoji\,segoe ui symbol\; font-size:19.8px">.</span>
LOCATION:Texas A&M University-Corpus Christi Performing Arts Center
UID:e.1866.27729
SEQUENCE:3
DTSTAMP:20260423T193946Z
URL:https://chamber.unitedcorpuschristi.org/events/details/act-of-god-film-screening-plus-q-a-27729
END:VEVENT

END:VCALENDAR
