BEGIN:VCALENDAR
VERSION:2.0
PRODID:-//ChamberMaster//Event Calendar 2.0//EN
METHOD:PUBLISH
X-PUBLISHED-TTL:P3D
REFRESH-INTERVAL:P3D
CALSCALE:GREGORIAN
BEGIN:VEVENT
DTSTART;VALUE=DATE:20260521
DTEND;VALUE=DATE:20260522
TRANSP:TRANSPARENT
X-MICROSOFT-CDO-ALLDAYEVENT:TRUE
SUMMARY:9th Annual STOP THE BLEED Day
DESCRIPTION:Stop the Bleed Day raises awareness and teaches lifesaving skills to control severe bleeding in emergencies\, empowering the public to act quickly and save lives before professional help arrives.
X-ALT-DESC;FMTTYPE=text/html:Stop the Bleed Day raises awareness and teaches lifesaving skills to control severe bleeding in emergencies\, empowering the public to act quickly and save lives before professional help arrives.
LOCATION:5110 Wilkinson Dr Ste 112 Corpus Christi\, TX 78415
UID:e.1866.30933
SEQUENCE:3
DTSTAMP:20260421T202728Z
URL:https://chamber.unitedcorpuschristi.org/events/details/9th-annual-stop-the-bleed-day-30933
END:VEVENT

END:VCALENDAR
