BEGIN:VCALENDAR
VERSION:2.0
PRODID:-//ChamberMaster//Event Calendar 2.0//EN
METHOD:PUBLISH
X-PUBLISHED-TTL:P3D
REFRESH-INTERVAL:P3D
CALSCALE:GREGORIAN
BEGIN:VEVENT
DTSTART:20220406T163000Z
DTEND:20220406T183000Z
X-MICROSOFT-CDO-ALLDAYEVENT:FALSE
SUMMARY:6 Steps to a Better Business
DESCRIPTION:Do you want to make more money? Do you want control of your time? Do you want to find and keep good people on your team?\n\n \n\n What You'll Learn at '6 Steps to a Better Business': \n\n  How to work ON your business instead of IN your business \n\n  How to turn your advertising and marketing into an investment instead of an expense \n\n  How to leverage your time to maximise efficiency and profits \n\n  How to recruit\, motivate\, educate\, and retain exceptional employees\n\nCome to our '6 Steps to a Better Business' seminar and you'll learn all of these things and more. Don't you owe it to yourself to invest some of your time learning how your business can reach its full potential? Of course you do. Hundreds of business owners and entrepreneurs in over 70 countries trust ActionCOACH  to help them to systemize their businesses and get more out of life. \n\nNow it's your turn
X-ALT-DESC;FMTTYPE=text/html:<p><strong style="text-align:justify">Do you want to make more money? Do you want control of your time? Do you want to find and keep good people on your team?</strong><br />\n&nbsp\;</p>\n\n<p><span style="color:rgb(0\, 0\, 0)\; font-size:12px">&nbsp\;</span><strong>What You&rsquo\;ll Learn at <em>&lsquo\;</em></strong><span style="color:#ce133e"><strong><em>6 </em></strong></span><strong><em>Steps </em></strong><span style="color:#ce133e"><strong><em>to a Better Business</em></strong></span><strong><em>&lsquo\;</em>:&nbsp\;</strong></p>\n\n<p style="text-align:justify"><span style="color:#fec44c">&bull\; </span>How to work <em>ON </em>your business instead of <em>IN </em>your business&nbsp\;</p>\n\n<p style="text-align:justify"><span style="color:#fec44c">&bull\; </span>How to turn your advertising and marketing into an investment instead of an expense&nbsp\;</p>\n\n<p style="text-align:justify"><span style="color:#fec44c">&bull\; </span>How to leverage your time to maximise efficiency and profits&nbsp\;</p>\n\n<p style="text-align:justify"><span style="color:#fec44c">&bull\; </span>How to recruit\, motivate\, educate\, and retain exceptional employees</p>\n\n<p><span style="text-align:justify">Come to our </span><em style="text-align:justify">&lsquo\;6 Steps to a Better Business&rsquo\; </em><span style="text-align:justify">seminar and you&rsquo\;ll learn all of these things and more. Don&rsquo\;t you owe it to yourself to invest some of your time learning how your business can reach its full potential? Of course you do. Hundreds of business owners and entrepreneurs in over 70 countries trust </span><span style="color:rgb(206\, 19\, 62)\; text-align:justify"><strong>Action</strong></span><span style="color:rgb(0\, 84\, 143)\; text-align:justify"><strong>COACH&reg\; </strong></span><span style="text-align:justify">to help them to systemize their businesses and get more out of life.&nbsp\;</span></p>\n\n<p style="text-align:justify">Now it&rsquo\;s your turn&hellip\;</p>\n
LOCATION:Sal's Bronx Pizza 5922 Yorktown Blvd
UID:e.1866.27434
SEQUENCE:3
DTSTAMP:20260423T113815Z
URL:https://chamber.unitedcorpuschristi.org/events/details/6-steps-to-a-better-business-27434
END:VEVENT

END:VCALENDAR
