BEGIN:VCALENDAR
VERSION:2.0
PRODID:-//ChamberMaster//Event Calendar 2.0//EN
METHOD:PUBLISH
X-PUBLISHED-TTL:P3D
REFRESH-INTERVAL:P3D
CALSCALE:GREGORIAN
BEGIN:VEVENT
DTSTART;VALUE=DATE:20260608
DTEND;VALUE=DATE:20260611
TRANSP:TRANSPARENT
X-MICROSOFT-CDO-ALLDAYEVENT:TRUE
SUMMARY:2026 CB to DC Advocacy Trip
DESCRIPTION:Join the Chamber delegation in Washington\, D.C. to voice your business needs\, collaborate with the Coastal Bend's business leaders and meet with the nation's top legislators and policy officials. (Members Only Event)\n\n\n\nAttendees will have the unique opportunity to:\n\n\n	\n	Participate in high-level meetings with U.S. administration officials and agencies\n	\n	\n	Gain access to our country?s key decision makers and advocate for local and regional issues important to the Coastal Bend\n	\n	\n	Network and make invaluable connections with elected officials on the local\, state and federal level\, as well as other community members\n	\n\n\n\n\nPlease note: Registered delegates that want to participate on an issue team are required to attend at least two pre-trip briefings\, which will take place monthly in advance of the trip. These briefings are critical to ensuring that all participants are well-prepared to advocate effectively on behalf of our region.\n\nWe look forward to bringing the united voice of the Coastal Bend to Capitol Hill\, together!\n \n\nAccommodations: \n\nA block of rooms has been reserved at the Marriott AC Hotel Washington DC Capitol Hill Navy Yard at a rate of $299 per night plus tax.\n\n- State Date: Monday\, June 8\, 2026\n\n- End Date: Wednesday\, June 10\, 2026\n\n- Last Day to Book: Friday\, May 15\, 2026
X-ALT-DESC;FMTTYPE=text/html:<div dir="ltr" style="line-height: 1.68\; margin-top: 0pt\; margin-bottom: 0pt\; padding: 0pt 0pt 15pt\;">\n<div dir="ltr" style="line-height: 1.68\; margin-top: 0pt\; margin-bottom: 15pt\;"><span style="font-family:verdana\;"><span style="font-size:16px\;"><span style="white-space: pre-wrap\;">Join the Chamber delegation in Washington\, D.C. to voice your business needs\, collaborate with the Coastal Bend&#39\;s business leaders and meet with the nation&#39\;s top legislators and policy officials. <em><span style="font-size:14px\;">(Members Only Event)</span></em></span><br style="font-family: tahoma\; font-size: 14px\; white-space: pre-wrap\;" />\n<br />\n<span style="background-color: transparent\; font-variant-numeric: normal\; font-variant-east-asian: normal\; vertical-align: baseline\; white-space-collapse: preserve\;">Attendees will have the unique opportunity to:</span></span></span></div>\n\n<ul>\n	<li style="line-height: 1.68\; margin-top: 0pt\; margin-bottom: 15pt\;">\n	<div><span style="font-family:verdana\;"><span style="font-size:16px\;"><span style="background-color: transparent\; font-weight: 700\; font-variant-numeric: normal\; font-variant-east-asian: normal\; vertical-align: baseline\; white-space-collapse: preserve\;">Participate in high-level meetings</span><span style="background-color: transparent\; font-variant-numeric: normal\; font-variant-east-asian: normal\; vertical-align: baseline\; white-space-collapse: preserve\;"> with U.S. administration officials and agencies</span></span></span></div>\n	</li>\n	<li style="line-height: 1.68\; margin-top: 0pt\; margin-bottom: 15pt\;">\n	<div><span style="font-family:verdana\;"><span style="font-size:16px\;"><span style="background-color: transparent\; font-weight: 700\; font-variant-numeric: normal\; font-variant-east-asian: normal\; vertical-align: baseline\; white-space-collapse: preserve\;">Gain access</span><span style="background-color: transparent\; font-variant-numeric: normal\; font-variant-east-asian: normal\; vertical-align: baseline\; white-space-collapse: preserve\;"> to our country?s key decision makers and advocate for local and regional issues important to the Coastal Bend</span></span></span></div>\n	</li>\n	<li style="line-height: 1.68\; margin-top: 0pt\; margin-bottom: 15pt\;">\n	<div><span style="font-family:verdana\;"><span style="font-size:16px\;"><span id="docs-internal-guid-e5a3cb24-7fff-3276-ce35-86c73508d20b"><span style="background-color: transparent\; font-weight: 700\; font-variant-numeric: normal\; font-variant-east-asian: normal\; vertical-align: baseline\; white-space-collapse: preserve\;">Network and make invaluable connections</span><span style="background-color: transparent\; font-variant-numeric: normal\; font-variant-east-asian: normal\; vertical-align: baseline\; white-space-collapse: preserve\;"> with elected officials on the local\, state and federal level\, as well as other community members</span></span></span></span></div>\n	</li>\n</ul>\n</div>\n\n<div dir="ltr" style="line-height: 1.68\; margin-top: 0pt\; margin-bottom: 15pt\;">\n<p data-end="1333" data-start="1027" style="caret-color: rgb(0\, 0\, 0)\; color: rgb(0\, 0\, 0)\;"><span style="font-family:verdana\;"><span style="font-size:16px\;"><strong data-end="1043" data-start="1027">Please note:</strong>&nbsp\;Registered delegates that want to participate on an issue team are required to attend&nbsp\;<strong data-end="1131" data-start="1096">at least two pre-trip briefings</strong>\, which will take place&nbsp\;<strong data-end="1203" data-start="1155">monthly in advance of the trip.</strong>&nbsp\;These briefings are critical to ensuring that all participants are well-prepared to advocate effectively on behalf of our region.</span></span></p>\n\n<p data-end="1427" data-start="1335" style="caret-color: rgb(0\, 0\, 0)\; color: rgb(0\, 0\, 0)\;"><span style="font-family:verdana\;"><span style="font-size:16px\;">We look forward to bringing the united voice of the Coastal Bend to Capitol Hill\,&nbsp\;together!</span></span></p>\n&nbsp\;\n\n<p dir="ltr" style="line-height:2.016\;margin-top:0pt\;margin-bottom:15pt\;"><span style="font-family:verdana\;"><span id="docs-internal-guid-e53c752a-7fff-44bf-4790-ee110fd853a3"><span style="font-size: 12pt\; color: rgb(51\, 51\, 51)\; font-weight: 700\; font-variant-numeric: normal\; font-variant-east-asian: normal\; font-variant-alternates: normal\; font-variant-position: normal\; font-variant-emoji: normal\; text-decoration-line: underline\; text-decoration-skip-ink: none\; vertical-align: baseline\; white-space-collapse: preserve\;">Accommodations:&nbsp\;</span></span><br />\n<span style="font-size: 12pt\; font-variant-numeric: normal\; font-variant-east-asian: normal\; font-variant-alternates: normal\; font-variant-position: normal\; font-variant-emoji: normal\; vertical-align: baseline\; white-space-collapse: preserve\;">A block of rooms has been reserved at the <em>Marriott</em> </span><span style="font-size: 12pt\; font-style: italic\; font-variant-numeric: normal\; font-variant-east-asian: normal\; font-variant-alternates: normal\; font-variant-position: normal\; font-variant-emoji: normal\; vertical-align: baseline\; white-space-collapse: preserve\;">AC Hotel Washington DC Capitol Hill Navy Yard </span><span style="font-size: 12pt\; font-variant-numeric: normal\; font-variant-east-asian: normal\; font-variant-alternates: normal\; font-variant-position: normal\; font-variant-emoji: normal\; vertical-align: baseline\; white-space-collapse: preserve\;">at a rate of $299 per night plus tax.</span></span></p>\n\n<p style="line-height: 2.016\; margin-top: 0pt\; margin-bottom: 15pt\; margin-left: 40px\;"><span style="font-size:14px\;"><span style="font-family:verdana\;">- State Date: Monday\, June 8\, 2026</span></span><br />\n<span style="font-size:14px\;"><span style="font-family:verdana\;"><span style="font-family:verdana\;"><span style="font-variant-numeric: normal\; font-variant-east-asian: normal\; font-variant-alternates: normal\; font-variant-position: normal\; font-variant-emoji: normal\; vertical-align: baseline\; white-space-collapse: preserve\;">- End Date: Wednesday\, June 10\, 2026</span></span></span></span><br />\n<span style="font-size:14px\;"><span style="font-family:verdana\;"><span style="font-variant-numeric: normal\; font-variant-east-asian: normal\; font-variant-alternates: normal\; font-variant-position: normal\; font-variant-emoji: normal\; vertical-align: baseline\; white-space-collapse: preserve\;">- Last Day to Book: Friday\, May 15\, 2026</span></span></span></p>\n\n<div>&nbsp\;</div>\n</div>\n
LOCATION:Washington\, D.C.
UID:e.1866.30872
SEQUENCE:3
DTSTAMP:20260424T141605Z
URL:https://chamber.unitedcorpuschristi.org/events/details/2026-cb-to-dc-advocacy-trip-30872
END:VEVENT

END:VCALENDAR
