BEGIN:VCALENDAR
VERSION:2.0
PRODID:-//ChamberMaster//Event Calendar 2.0//EN
METHOD:PUBLISH
X-PUBLISHED-TTL:P3D
REFRESH-INTERVAL:P3D
CALSCALE:GREGORIAN
BEGIN:VEVENT
DTSTART;VALUE=DATE:20221108
DTEND;VALUE=DATE:20221109
TRANSP:TRANSPARENT
X-MICROSOFT-CDO-ALLDAYEVENT:TRUE
SUMMARY:2022 Coastal Bend Day of Giving
DESCRIPTION:Administered through the Coastal Bend Community Foundation\, the Coastal Bend Day of Giving is a one day only\, 24-hour\, online matching fundraising campaign offering the unique opportunity to make gifts that are doubled to local participating nonprofits in the seven-county service area (Aransas\, Bee\, Jim Wells\, Kleberg\, Nueces\, Refugio\, San Patricio). This year\, 24 matching funders have pledged $1.3 million in matching grants\, allowing each participating nonprofit's gifts to double\, up to $24\,000\, each raising at least $48\,000 in just 24 hours!\n\n\n\nIn the past 13 Giving Days\, the Coastal Bend community has come together to raise over $24.3 million to help thousands of our neediest neighbors with much needed services.  Participating in the Day of Giving is simple. Visit www.coastalbenddayofgiving.org\, midnight to midnight on November 8\, 2022\, and click the "DONATE NOW" button.   Gifts via credit/debit card or an electronic check are accepted using a shopping cart method to allow donations to multiple nonprofits in one transaction.\n\n\n\nFight Hunger * Support Children * Improve Health * Reduce Homelessness   Right Here in the Coastal Bend.
X-ALT-DESC;FMTTYPE=text/html:Administered through the Coastal Bend Community Foundation\, the Coastal Bend Day of Giving is a one day only\, 24-hour\, online matching fundraising campaign offering the unique opportunity to make gifts that are doubled to local participating nonprofits in the seven-county service area (Aransas\, Bee\, Jim Wells\, Kleberg\, Nueces\, Refugio\, San Patricio). This year\, 24 matching funders have pledged $1.3 million in matching grants\, allowing each participating nonprofit&rsquo\;s gifts to double\, up to $24\,000\, each raising at least $48\,000 in just 24 hours!<br />\n<br />\nIn the past 13 Giving Days\, the Coastal Bend community has come together to raise over $24.3 million to help thousands of our neediest neighbors with much needed services.&nbsp\; Participating in the Day of Giving is simple. Visit www.coastalbenddayofgiving.org\, midnight to midnight on November 8\, 2022\, and click the &ldquo\;DONATE NOW&rdquo\; button.&nbsp\;&nbsp\; Gifts via credit/debit card or an electronic check are accepted using a shopping cart method to allow donations to multiple nonprofits in one transaction.<br />\n<br />\n<strong>Fight Hunger *</strong><strong>&nbsp\;Support Children * Improve Health * Reduce Homelessness </strong><em><span style="font-family:calibri\,sans-serif">&ndash\; Right Here in the Coastal Bend.</span></em>
LOCATION:Online: www.coastalbenddayofgiving.org
UID:e.1866.27725
SEQUENCE:3
DTSTAMP:20260423T210133Z
URL:https://chamber.unitedcorpuschristi.org/events/details/2022-coastal-bend-day-of-giving-27725
END:VEVENT

END:VCALENDAR
